BEGIN:VCALENDAR
VERSION:2.0
PRODID:-//92.5 the River - ECPv5.16.3.1//NONSGML v1.0//EN
CALSCALE:GREGORIAN
METHOD:PUBLISH
X-WR-CALNAME:92.5 the River
X-ORIGINAL-URL:https://theriverboston.com
X-WR-CALDESC:Events for 92.5 the River
BEGIN:VTIMEZONE
TZID:America/New_York
BEGIN:DAYLIGHT
TZOFFSETFROM:-0500
TZOFFSETTO:-0400
TZNAME:EDT
DTSTART:20180311T070000
END:DAYLIGHT
BEGIN:STANDARD
TZOFFSETFROM:-0400
TZOFFSETTO:-0500
TZNAME:EST
DTSTART:20181104T060000
END:STANDARD
END:VTIMEZONE
BEGIN:VEVENT
DTSTART;TZID=America/New_York:20181122T060000
DTEND;TZID=America/New_York:20181122T190000
DTSTAMP:20260420T013340
CREATED:20181116T221428Z
LAST-MODIFIED:20181119T160333Z
UID:64915-1542866400-1542913200@theriverboston.com
SUMMARY:Unplucked 2018 Thanksgiving Broadcast
DESCRIPTION:Enjoy acoustic music from the River all day long! 13 hours of “unplucked” tunes from the River Music Hall archives and acoustic music from throughout the decades.  \nIt’s the perfect soundtrack for your “perfect” Thanksgiving gathering. \nTune in to 92.5 the River from 6AM – 7PM! \nHappy Thanksgiving!
URL:https://theriverboston.com/events/unplucked-2018-thanksgiving-broadcast/
ORGANIZER;CN="92.5%20the%20River":MAILTO:promotions@wxrv.com
END:VEVENT
END:VCALENDAR