BEGIN:VCALENDAR
VERSION:2.0
PRODID:-//92.5 the River - ECPv5.16.3.1//NONSGML v1.0//EN
CALSCALE:GREGORIAN
METHOD:PUBLISH
X-WR-CALNAME:92.5 the River
X-ORIGINAL-URL:https://theriverboston.com
X-WR-CALDESC:Events for 92.5 the River
BEGIN:VTIMEZONE
TZID:America/New_York
BEGIN:DAYLIGHT
TZOFFSETFROM:-0500
TZOFFSETTO:-0400
TZNAME:EDT
DTSTART:20230312T070000
END:DAYLIGHT
BEGIN:STANDARD
TZOFFSETFROM:-0400
TZOFFSETTO:-0500
TZNAME:EST
DTSTART:20231105T060000
END:STANDARD
END:VTIMEZONE
BEGIN:VEVENT
DTSTART;TZID=America/New_York:20230208T200000
DTEND;TZID=America/New_York:20230208T220000
DTSTAMP:20260424T155749
CREATED:20220607T155401Z
LAST-MODIFIED:20220607T155401Z
UID:216462-1675886400-1675893600@theriverboston.com
SUMMARY:Vance Joy @ MGM Music Hall at Fenway
DESCRIPTION:Vance Joy\nMGM Music Hall at Fenway\nWednesday\, February 8th 2022\nThe hit singer of “Riptide” and “Saturday Sun” is coming to Boston in support of his “In Our Own Sweet Time” Tour. This is a show you will not want to miss out on!
URL:https://theriverboston.com/events/vance-joy-mgm-music-hall-at-fenway/
LOCATION:MGM Music Hall at Fenway\, 2 Lansdowne Street\, Boston\, MA\, 02215\, United States
END:VEVENT
END:VCALENDAR