BEGIN:VCALENDAR
VERSION:2.0
PRODID:-//92.5 the River - ECPv5.16.3.1//NONSGML v1.0//EN
CALSCALE:GREGORIAN
METHOD:PUBLISH
X-WR-CALNAME:92.5 the River
X-ORIGINAL-URL:https://theriverboston.com
X-WR-CALDESC:Events for 92.5 the River
BEGIN:VTIMEZONE
TZID:America/New_York
BEGIN:DAYLIGHT
TZOFFSETFROM:-0500
TZOFFSETTO:-0400
TZNAME:EDT
DTSTART:20150308T070000
END:DAYLIGHT
BEGIN:STANDARD
TZOFFSETFROM:-0400
TZOFFSETTO:-0500
TZNAME:EST
DTSTART:20151101T060000
END:STANDARD
END:VTIMEZONE
BEGIN:VEVENT
DTSTART;TZID=America/New_York:20150502T090000
DTEND;TZID=America/New_York:20150502T150000
DTSTAMP:20260424T102651
CREATED:20150327T183818Z
LAST-MODIFIED:20150327T184427Z
UID:6667-1430557200-1430578800@theriverboston.com
SUMMARY:Walk MS: Nashua 2015
DESCRIPTION:Walk MS: Nashua 2015\, presented by Biogen\nDate: Saturday\, May 2\, 2015 \nLocation: Amherst St. Elementary School \nTime: 9am Registration & Check-in; 10am start \nDistance: 3 OR 5 miles \nWalk MS connects people living with MS and those who care about them. It is an experience unlike any other – a day to come together\, to celebrate the progress we’ve made and to show the power of our connections. \nWhen you participate in Walk MS\, the funds you raise give hope to the more than 21\,000 individuals and their families affected by multiple sclerosis in Maine\, Massachusetts\, New Hampshire\, Rhode Island\, and Vermont. The dollars raised support life-changing programs and cutting-edge research. \nRegister here to walk!
URL:https://theriverboston.com/events/walk-ms-nashua-2015/
LOCATION:Amherst Street Elementary School\, 71 Amherst St.\, Nashua\, MA\, 03064\, United States
END:VEVENT
END:VCALENDAR