BEGIN:VCALENDAR
VERSION:2.0
PRODID:-//92.5 the River - ECPv5.16.3.1//NONSGML v1.0//EN
CALSCALE:GREGORIAN
METHOD:PUBLISH
X-WR-CALNAME:92.5 the River
X-ORIGINAL-URL:https://theriverboston.com
X-WR-CALDESC:Events for 92.5 the River
BEGIN:VTIMEZONE
TZID:America/New_York
BEGIN:DAYLIGHT
TZOFFSETFROM:-0500
TZOFFSETTO:-0400
TZNAME:EDT
DTSTART:20150308T070000
END:DAYLIGHT
BEGIN:STANDARD
TZOFFSETFROM:-0400
TZOFFSETTO:-0500
TZNAME:EST
DTSTART:20151101T060000
END:STANDARD
END:VTIMEZONE
BEGIN:VEVENT
DTSTART;TZID=America/New_York:20150621T090000
DTEND;TZID=America/New_York:20150621T150000
DTSTAMP:20260422T122255
CREATED:20150327T181930Z
LAST-MODIFIED:20150327T181930Z
UID:6655-1434877200-1434898800@theriverboston.com
SUMMARY:Walk MS: Wakefield
DESCRIPTION:Walk MS: Wakefield 2015\, presented by Biogen\nDate: Sunday\, June 21\, 2015 \nLocation: Lake Quannapowitt \nTime: 9am Registration & Check-in; 10am start \nDistance: 3 miles \nWalk MS connects people living with MS and those who care about them. It is an experience unlike any other – a day to come together\, to celebrate the progress we’ve made and to show the power of our connections. \nWhen you participate in Walk MS\, the funds you raise give hope to the more than 21\,000 individuals and their families affected by multiple sclerosis in Maine\, Massachusetts\, New Hampshire\, Rhode Island\, and Vermont. The dollars raised support life-changing programs and cutting-edge research. \nRegister here to walk!
URL:https://theriverboston.com/events/walk-ms-wakefield/
LOCATION:Lake Quannapowitt\, 1 Common St.\, Wakefield\, MA\, 01880\, United States
ORGANIZER;CN="Danielle%20Paonessa":MAILTO:Danielle.Paonessa [at] nmss.org
END:VEVENT
END:VCALENDAR