BEGIN:VCALENDAR
VERSION:2.0
PRODID:-//92.5 the River - ECPv5.16.3.1//NONSGML v1.0//EN
CALSCALE:GREGORIAN
METHOD:PUBLISH
X-WR-CALNAME:92.5 the River
X-ORIGINAL-URL:https://theriverboston.com
X-WR-CALDESC:Events for 92.5 the River
BEGIN:VTIMEZONE
TZID:America/New_York
BEGIN:DAYLIGHT
TZOFFSETFROM:-0500
TZOFFSETTO:-0400
TZNAME:EDT
DTSTART:20160313T070000
END:DAYLIGHT
BEGIN:STANDARD
TZOFFSETFROM:-0400
TZOFFSETTO:-0500
TZNAME:EST
DTSTART:20161106T060000
END:STANDARD
END:VTIMEZONE
BEGIN:VEVENT
DTSTART;TZID=America/New_York:20160407T200000
DTEND;TZID=America/New_York:20160407T220000
DTSTAMP:20260419T200222
CREATED:20160330T171424Z
LAST-MODIFIED:20160330T171424Z
UID:10380-1460059200-1460066400@theriverboston.com
SUMMARY:The Weight at the Blue Ocean Music Hall
DESCRIPTION:See The Weight at the Blue Ocean Music Hall!\nWhen: Thursday\, April 7th\nShowtime: 8:00pm\nEnter to win tickets from our Tickets & Exclusive Offers page here! \nTickets are on sale now here!
URL:https://theriverboston.com/events/weight-blue-ocean-music-hall/
LOCATION:Blue Ocean Music Hall\, 4 Ocean Front N\, Salisbury\, 01952
END:VEVENT
END:VCALENDAR