BEGIN:VCALENDAR
VERSION:2.0
PRODID:-//92.5 the River - ECPv5.16.3.1//NONSGML v1.0//EN
CALSCALE:GREGORIAN
METHOD:PUBLISH
X-WR-CALNAME:92.5 the River
X-ORIGINAL-URL:https://theriverboston.com
X-WR-CALDESC:Events for 92.5 the River
BEGIN:VTIMEZONE
TZID:America/New_York
BEGIN:DAYLIGHT
TZOFFSETFROM:-0500
TZOFFSETTO:-0400
TZNAME:EDT
DTSTART:20190310T070000
END:DAYLIGHT
BEGIN:STANDARD
TZOFFSETFROM:-0400
TZOFFSETTO:-0500
TZNAME:EST
DTSTART:20191103T060000
END:STANDARD
END:VTIMEZONE
BEGIN:VEVENT
DTSTART;TZID=America/New_York:20190504T120000
DTEND;TZID=America/New_York:20190504T170000
DTSTAMP:20260420T185427
CREATED:20190411T192601Z
LAST-MODIFIED:20190411T192601Z
UID:208169-1556971200-1556989200@theriverboston.com
SUMMARY:Western Avenue Studios - Open Studios!
DESCRIPTION:Artists of Western Avenue Studios are hosting a day of food\, drink\, and art!\nWith as many as 100 open studios\, 5-10 lofts\, food trucks\, and brewing companies\, the Open Studios offer something for everyone! \nMeet the artists\, see new art\, shop for unique gifts\, and stop by to enjoy some good company. \nThe Loading Dock Gallery will also be hosting their new show after the Open Studios end.
URL:https://theriverboston.com/events/western-avenue-studios-open-studios/
LOCATION:Western Avenue Studios\, 122 Western Avenue\, Lowell\, MA\, 01851\, United States
END:VEVENT
END:VCALENDAR