BEGIN:VCALENDAR
VERSION:2.0
PRODID:-//92.5 the River - ECPv5.16.3.1//NONSGML v1.0//EN
CALSCALE:GREGORIAN
METHOD:PUBLISH
X-WR-CALNAME:92.5 the River
X-ORIGINAL-URL:https://theriverboston.com
X-WR-CALDESC:Events for 92.5 the River
BEGIN:VTIMEZONE
TZID:America/New_York
BEGIN:DAYLIGHT
TZOFFSETFROM:-0500
TZOFFSETTO:-0400
TZNAME:EDT
DTSTART:20180311T070000
END:DAYLIGHT
BEGIN:STANDARD
TZOFFSETFROM:-0400
TZOFFSETTO:-0500
TZNAME:EST
DTSTART:20181104T060000
END:STANDARD
END:VTIMEZONE
BEGIN:VEVENT
DTSTART;TZID=America/New_York:20181205T180000
DTEND;TZID=America/New_York:20181205T193000
DTSTAMP:20260419T144053
CREATED:20181126T182629Z
LAST-MODIFIED:20181126T182629Z
UID:205036-1544032800-1544038200@theriverboston.com
SUMMARY:What's On Tap Music Series - Scars on 45
DESCRIPTION:Win tickets to Scars on 45 at Riverwalk Brewing Co.!\n92.5 the River and Riverwalk Brewing Co. present the What’s On Tap Music Series! \nSee Scars on 45 in the Riverwalk Taproom for an intimate show on Wednesday\, December 5th at 6pm. Enter to win for a chance to attend\, and also get a chance to meet the band and take a picture with them. \n*Must be 21+ to enter. \nThis awesome opportunity is brought to you by:
URL:https://theriverboston.com/events/whats-on-tap-music-series-scars-on-45/
LOCATION:Riverwalk Brewing Co.\, 40 Parker St\, Newburyport\, MA\, 01950\, United States
ORGANIZER;CN="92.5%20the%20River":MAILTO:promotions@wxrv.com
END:VEVENT
END:VCALENDAR