BEGIN:VCALENDAR
VERSION:2.0
PRODID:-//92.5 the River - ECPv5.16.3.1//NONSGML v1.0//EN
CALSCALE:GREGORIAN
METHOD:PUBLISH
X-WR-CALNAME:92.5 the River
X-ORIGINAL-URL:https://theriverboston.com
X-WR-CALDESC:Events for 92.5 the River
BEGIN:VTIMEZONE
TZID:America/New_York
BEGIN:DAYLIGHT
TZOFFSETFROM:-0500
TZOFFSETTO:-0400
TZNAME:EDT
DTSTART:20160313T070000
END:DAYLIGHT
BEGIN:STANDARD
TZOFFSETFROM:-0400
TZOFFSETTO:-0500
TZNAME:EST
DTSTART:20161106T060000
END:STANDARD
END:VTIMEZONE
BEGIN:VEVENT
DTSTART;TZID=America/New_York:20161106T130000
DTEND;TZID=America/New_York:20161106T160000
DTSTAMP:20260424T021319
CREATED:20161011T172500Z
LAST-MODIFIED:20161011T172641Z
UID:22714-1478437200-1478448000@theriverboston.com
SUMMARY:Whittier Tech Open House!!
DESCRIPTION:Save the date!! Whittier Regional Vocational High School is hosting its annual open house on November 6th! \nAnd don’t miss out on your chance to meet the River’s own AJ Crozby\, who will be hosting the event\, along with the rest of the River Street team!
URL:https://theriverboston.com/events/whittier-tech-open-house-2/
LOCATION:Whittier Regional Vocational Technical High School\, 115 Amesbury Line Road\, Haverhill\, 01830\, United States
END:VEVENT
END:VCALENDAR