BEGIN:VCALENDAR
VERSION:2.0
PRODID:-//92.5 the River - ECPv5.16.3.1//NONSGML v1.0//EN
CALSCALE:GREGORIAN
METHOD:PUBLISH
X-WR-CALNAME:92.5 the River
X-ORIGINAL-URL:https://theriverboston.com
X-WR-CALDESC:Events for 92.5 the River
BEGIN:VTIMEZONE
TZID:America/New_York
BEGIN:DAYLIGHT
TZOFFSETFROM:-0500
TZOFFSETTO:-0400
TZNAME:EDT
DTSTART:20250309T070000
END:DAYLIGHT
BEGIN:STANDARD
TZOFFSETFROM:-0400
TZOFFSETTO:-0500
TZNAME:EST
DTSTART:20251102T060000
END:STANDARD
END:VTIMEZONE
BEGIN:VEVENT
DTSTART;TZID=America/New_York:20250207T180000
DTEND;TZID=America/New_York:20250207T203000
DTSTAMP:20260419T141532
CREATED:20250203T175518Z
LAST-MODIFIED:20250203T175518Z
UID:226198-1738951200-1738960200@theriverboston.com
SUMMARY:Winter Wine Festival - Grand Tasting with RNDC
DESCRIPTION:Wentworth By The Sea Winter Wine Festival | Wentworth by The Sea Hotel Ballroom \nStart Time: 6pm  \nThe Grand Tasting in the Grand Ballroom is nothing less than a playground for food and wine lovers. Guests will be able to sample a vast array of wine in this walk-around event and indulge in the offerings of numerous wine and food stations. \nTo make the night even better\, hear live Jazz with Chris Klaxton & Jimmy Clark! \n*Must be 21 years of age to attend.*
URL:https://theriverboston.com/events/winter-wine-festival/
LOCATION:Wentworth by the Sea\, 588 Wentworth Road\, New Castle\, NH\, 03854
END:VEVENT
END:VCALENDAR