BEGIN:VCALENDAR
VERSION:2.0
PRODID:-//92.5 the River - ECPv5.16.3.1//NONSGML v1.0//EN
CALSCALE:GREGORIAN
METHOD:PUBLISH
X-WR-CALNAME:92.5 the River
X-ORIGINAL-URL:https://theriverboston.com
X-WR-CALDESC:Events for 92.5 the River
BEGIN:VTIMEZONE
TZID:America/New_York
BEGIN:DAYLIGHT
TZOFFSETFROM:-0500
TZOFFSETTO:-0400
TZNAME:EDT
DTSTART:20180311T070000
END:DAYLIGHT
BEGIN:STANDARD
TZOFFSETFROM:-0400
TZOFFSETTO:-0500
TZNAME:EST
DTSTART:20181104T060000
END:STANDARD
END:VTIMEZONE
BEGIN:VEVENT
DTSTART;VALUE=DATE:20181214
DTEND;VALUE=DATE:20181217
DTSTAMP:20260419T113442
CREATED:20181130T183835Z
LAST-MODIFIED:20181130T183835Z
UID:205136-1544745600-1545004799@theriverboston.com
SUMMARY:Winter Wondergrass Festival 2018
DESCRIPTION:Winter WonderGrass Festival 2018\nThe legendary Stratton Mountain Resort and The Green Mountains host the first annual East Coast WinterWonderGrass. Close to charming and historic Manchester\, surrounded by plentiful lodging\, farm to table eateries and idyllic Vermont culture\, the site is a perfect fit for our roots community. \nThe lineup includes Railroad Earth\, The Infamous Stringdusters\, Keller and the Keels\, Ghost of Paul Revere\, Fruiton + Billy Strings\, and many more! \nTickets are on sale now. \nWe’re also giving away a pair of VIP tickets now through 12/6! \n 
URL:https://theriverboston.com/events/winter-wondergrass-festival-2018/
LOCATION:Stratton Mountain\, Stratton Mountain\, Stratton\, 05360\, United States
END:VEVENT
END:VCALENDAR