BEGIN:VCALENDAR
VERSION:2.0
PRODID:-//92.5 the River - ECPv5.16.3.1//NONSGML v1.0//EN
CALSCALE:GREGORIAN
METHOD:PUBLISH
X-WR-CALNAME:92.5 the River
X-ORIGINAL-URL:https://theriverboston.com
X-WR-CALDESC:Events for 92.5 the River
BEGIN:VTIMEZONE
TZID:America/New_York
BEGIN:DAYLIGHT
TZOFFSETFROM:-0500
TZOFFSETTO:-0400
TZNAME:EDT
DTSTART:20160313T070000
END:DAYLIGHT
BEGIN:STANDARD
TZOFFSETFROM:-0400
TZOFFSETTO:-0500
TZNAME:EST
DTSTART:20161106T060000
END:STANDARD
END:VTIMEZONE
BEGIN:VEVENT
DTSTART;TZID=America/New_York:20161015T090000
DTEND;TZID=America/New_York:20161015T120000
DTSTAMP:20260423T013629
CREATED:20160404T175902Z
LAST-MODIFIED:20160404T175902Z
UID:10476-1476522000-1476532800@theriverboston.com
SUMMARY:Witch City 5k\, Salem
DESCRIPTION:Kick off your Halloween Season right by making your way through Historic Salem with the whole family for the 11th Annual Witch City 5K Road Race!
URL:https://theriverboston.com/events/witch-city-5k-salem/
LOCATION:Salem Willows\, 167 Fort Ave\, Salem\, MA\, 01970\, United States
END:VEVENT
END:VCALENDAR