BEGIN:VCALENDAR
VERSION:2.0
PRODID:-//92.5 the River - ECPv5.16.3.1//NONSGML v1.0//EN
CALSCALE:GREGORIAN
METHOD:PUBLISH
X-WR-CALNAME:92.5 the River
X-ORIGINAL-URL:https://theriverboston.com
X-WR-CALDESC:Events for 92.5 the River
BEGIN:VTIMEZONE
TZID:America/New_York
BEGIN:DAYLIGHT
TZOFFSETFROM:-0500
TZOFFSETTO:-0400
TZNAME:EDT
DTSTART:20250309T070000
END:DAYLIGHT
BEGIN:STANDARD
TZOFFSETFROM:-0400
TZOFFSETTO:-0500
TZNAME:EST
DTSTART:20251102T060000
END:STANDARD
END:VTIMEZONE
BEGIN:VEVENT
DTSTART;TZID=America/New_York:20250808T193000
DTEND;TZID=America/New_York:20250808T193000
DTSTAMP:20260422T223955
CREATED:20250605T175635Z
LAST-MODIFIED:20250605T175635Z
UID:227632-1754681400-1754681400@theriverboston.com
SUMMARY:The Wood Brothers @ Lowell Summer Music Series
DESCRIPTION:The Wood Brothers | Friday\, August 8th \nShow: 7:30 pm \nThe Wood Brothers are independent pioneers of American roots music that just released their eighth studio album titled Heart is the Hero.  Their analog approach to this recording process emphasized intentionality and simplicity in their music which is sure to translate well onto the stage at the Lowell Summer Music Series.  Join this Grammy-nominated trio with guest Mason Via for a night of music you won’t forget! \nGet tickets here!
URL:https://theriverboston.com/events/wood-brothers-lowell-summer/
LOCATION:Lowell Summer Music Series\, 40 French Street\, Lowell\, MA\, 01852\, United States
END:VEVENT
END:VCALENDAR