BEGIN:VCALENDAR
VERSION:2.0
PRODID:-//92.5 the River - ECPv5.16.3.1//NONSGML v1.0//EN
CALSCALE:GREGORIAN
METHOD:PUBLISH
X-WR-CALNAME:92.5 the River
X-ORIGINAL-URL:https://theriverboston.com
X-WR-CALDESC:Events for 92.5 the River
BEGIN:VTIMEZONE
TZID:America/New_York
BEGIN:DAYLIGHT
TZOFFSETFROM:-0500
TZOFFSETTO:-0400
TZNAME:EDT
DTSTART:20250309T070000
END:DAYLIGHT
BEGIN:STANDARD
TZOFFSETFROM:-0400
TZOFFSETTO:-0500
TZNAME:EST
DTSTART:20251102T060000
END:STANDARD
END:VTIMEZONE
BEGIN:VEVENT
DTSTART;TZID=America/New_York:20250922T190000
DTEND;TZID=America/New_York:20250922T190000
DTSTAMP:20260423T000919
CREATED:20250528T164125Z
LAST-MODIFIED:20250529T131925Z
UID:227518-1758567600-1758567600@theriverboston.com
SUMMARY:X Ambassadors @ House of Blues
DESCRIPTION:X Ambassadors | Monday\, September 22nd \nDoors: 7 pm | Show: 8 pm \nX Ambassadors are embarking on The VHS(X) North American Tour to celebrate the 10th anniversary of their debut album VHS.  With iconic songs such as “Renegades” and “Unsteady”\, X Ambassadors broke onto the scene with a distinctive alt-rock sound.  Now\, they are planning on releasing a remixed version of VHS titled VHS(X) in tandem with the tour to highlight how they have evolved as musicians over the past ten years.     \nMake sure to catch X Ambassadors at The House of Blues in Boston as they celebrate a decade of VHS! \nGet tickets here!
URL:https://theriverboston.com/events/x-ambassadors-hob/
LOCATION:Citizens House Of Blues\, 15 Lansdowne Street\, Boston\, MA\, 02215\, United States
END:VEVENT
END:VCALENDAR