BEGIN:VCALENDAR
VERSION:2.0
PRODID:-//92.5 the River - ECPv5.16.3.1//NONSGML v1.0//EN
CALSCALE:GREGORIAN
METHOD:PUBLISH
X-WR-CALNAME:92.5 the River
X-ORIGINAL-URL:https://theriverboston.com
X-WR-CALDESC:Events for 92.5 the River
BEGIN:VTIMEZONE
TZID:America/New_York
BEGIN:DAYLIGHT
TZOFFSETFROM:-0500
TZOFFSETTO:-0400
TZNAME:EDT
DTSTART:20150308T070000
END:DAYLIGHT
BEGIN:STANDARD
TZOFFSETFROM:-0400
TZOFFSETTO:-0500
TZNAME:EST
DTSTART:20151101T060000
END:STANDARD
END:VTIMEZONE
BEGIN:VEVENT
DTSTART;TZID=America/New_York:20150621T073000
DTEND;TZID=America/New_York:20150621T100000
DTSTAMP:20260422T135107
CREATED:20150615T184355Z
LAST-MODIFIED:20170620T141805Z
UID:7296-1434871800-1434880800@theriverboston.com
SUMMARY:YMCA Father's Day 5k & 10k
DESCRIPTION:Join us in Rockport on Father’s Day for the 5 & 10k! To register for this scenic run\, check out the event website. We’ll be at the starting line from 7:30-10am!
URL:https://theriverboston.com/events/ymca-fathers-day-5k-10k/
END:VEVENT
END:VCALENDAR