BEGIN:VCALENDAR
VERSION:2.0
PRODID:-//92.5 the River - ECPv5.16.3.1//NONSGML v1.0//EN
CALSCALE:GREGORIAN
METHOD:PUBLISH
X-WR-CALNAME:92.5 the River
X-ORIGINAL-URL:https://theriverboston.com
X-WR-CALDESC:Events for 92.5 the River
BEGIN:VTIMEZONE
TZID:America/New_York
BEGIN:DAYLIGHT
TZOFFSETFROM:-0500
TZOFFSETTO:-0400
TZNAME:EDT
DTSTART:20160313T070000
END:DAYLIGHT
BEGIN:STANDARD
TZOFFSETFROM:-0400
TZOFFSETTO:-0500
TZNAME:EST
DTSTART:20161106T060000
END:STANDARD
END:VTIMEZONE
BEGIN:VEVENT
DTSTART;TZID=America/New_York:20160408T200000
DTEND;TZID=America/New_York:20160408T230000
DTSTAMP:20260419T170428
CREATED:20160107T185737Z
LAST-MODIFIED:20160107T185737Z
UID:9594-1460145600-1460156400@theriverboston.com
SUMMARY:Yo La Tengo at the Music Hall in Portsmouth!
DESCRIPTION:See Yo La Tengo perform live at the Music Hall in Portsmouth on Friday\, April 8th\, 2016 at 8 PM! Find out more information and buy tickets here!
URL:https://theriverboston.com/events/yo-la-tengo-at-the-music-hall-in-portsmouth/
LOCATION:Music Hall in Portsmouth\, 28 Chestnut Street\, Portsmouth\, NH\, 03801\, United States
END:VEVENT
END:VCALENDAR