BEGIN:VCALENDAR
VERSION:2.0
PRODID:-//92.5 the River - ECPv5.16.3.1//NONSGML v1.0//EN
CALSCALE:GREGORIAN
METHOD:PUBLISH
X-WR-CALNAME:92.5 the River
X-ORIGINAL-URL:https://theriverboston.com
X-WR-CALDESC:Events for 92.5 the River
BEGIN:VTIMEZONE
TZID:America/New_York
BEGIN:DAYLIGHT
TZOFFSETFROM:-0500
TZOFFSETTO:-0400
TZNAME:EDT
DTSTART:20150308T070000
END:DAYLIGHT
BEGIN:STANDARD
TZOFFSETFROM:-0400
TZOFFSETTO:-0500
TZNAME:EST
DTSTART:20151101T060000
END:STANDARD
END:VTIMEZONE
BEGIN:VEVENT
DTSTART;TZID=America/New_York:20150723T200000
DTEND;TZID=America/New_York:20150723T233000
DTSTAMP:20260421T102444
CREATED:20150618T205500Z
LAST-MODIFIED:20150619T152755Z
UID:7420-1437681600-1437694200@theriverboston.com
SUMMARY:Zappa Plays Zappa at Casino Ballroom
DESCRIPTION:Zappa Plays Zappa is coming to Casino Ballroom this July!\nGet your tickets before they sell out!  \nStay up-to-date about Casino Ballroom shows on Facebook & Twitter!
URL:https://theriverboston.com/events/zappa-plays-zappa-at-casino-ballroom/
LOCATION:Casino Ballroom\, 169 Ocean Boulevard\, Hampton\, NH\, 03842\, United States
END:VEVENT
END:VCALENDAR