BEGIN:VCALENDAR
VERSION:2.0
PRODID:-//92.5 the River - ECPv5.16.3.1//NONSGML v1.0//EN
CALSCALE:GREGORIAN
METHOD:PUBLISH
X-WR-CALNAME:92.5 the River
X-ORIGINAL-URL:https://theriverboston.com
X-WR-CALDESC:Events for 92.5 the River
BEGIN:VTIMEZONE
TZID:America/New_York
BEGIN:DAYLIGHT
TZOFFSETFROM:-0500
TZOFFSETTO:-0400
TZNAME:EDT
DTSTART:20170312T070000
END:DAYLIGHT
BEGIN:STANDARD
TZOFFSETFROM:-0400
TZOFFSETTO:-0500
TZNAME:EST
DTSTART:20171105T060000
END:STANDARD
END:VTIMEZONE
BEGIN:VEVENT
DTSTART;TZID=America/New_York:20170615T183000
DTEND;TZID=America/New_York:20170615T220000
DTSTAMP:20260425T164759
CREATED:20170328T150241Z
LAST-MODIFIED:20170606T150350Z
UID:38970-1497551400-1497564000@theriverboston.com
SUMMARY:16th Annual Best Of New Hampshire Party
DESCRIPTION:Join the River Roadies for the 16th annual Best Of New Hampshire Party on June 15th at Northeast Delta Dental Stadium in Manchester\, NH. \nAttendees can look forward to a night of food and drink samples from more than 65 booths of New Hampshire’s best\, while enjoying a night at the ballpark listening to music and live entertainment\, and ending the night with an amazing fireworks display! \nDon’t miss this year’s Best of NH Party and purchase your tickets  now.
URL:https://theriverboston.com/events/16th-annual-best-new-hampshire-party/
LOCATION:Northeast Delta Dental Stadium\, 1 Line Drive\, Manchester\, NH\, United States
END:VEVENT
END:VCALENDAR