BEGIN:VCALENDAR
VERSION:2.0
PRODID:-//92.5 the River - ECPv5.16.3.1//NONSGML v1.0//EN
CALSCALE:GREGORIAN
METHOD:PUBLISH
X-WR-CALNAME:92.5 the River
X-ORIGINAL-URL:https://theriverboston.com
X-WR-CALDESC:Events for 92.5 the River
BEGIN:VTIMEZONE
TZID:America/New_York
BEGIN:DAYLIGHT
TZOFFSETFROM:-0500
TZOFFSETTO:-0400
TZNAME:EDT
DTSTART:20170312T070000
END:DAYLIGHT
BEGIN:STANDARD
TZOFFSETFROM:-0400
TZOFFSETTO:-0500
TZNAME:EST
DTSTART:20171105T060000
END:STANDARD
END:VTIMEZONE
BEGIN:VEVENT
DTSTART;TZID=America/New_York:20170714T193000
DTEND;TZID=America/New_York:20170714T213000
DTSTAMP:20260425T232337
CREATED:20170309T215328Z
LAST-MODIFIED:20170309T215328Z
UID:37468-1500060600-1500067800@theriverboston.com
SUMMARY:The Doo Wop Project
DESCRIPTION:  \nThe Doo Wop Project begins at the beginning\, tracing the evolution of Doo Wop from the classic sound of five guys singing tight harmonies on a street corner to the biggest hits on the radio today. Throughout the show DWP takes audiences on a journey from foundational tunes of groups like the Crests\, Belmonts and Flamingos through their influences on the sounds of Smokey Robinson\, the Temptations\, and the Four Seasons all the way to Michael Jackson\, Jason Mraz and Amy Winehouse. Tickets on sale at https://greatwaters.ticketleap.com/the-doo-wop-project/ \n 
URL:https://theriverboston.com/events/doo-wop-project/
LOCATION:Kingswood Arts Center\, 21 McManus Road\, Wolfeboro\, NH\, 03894\, United States
END:VEVENT
BEGIN:VEVENT
DTSTART;TZID=America/New_York:20170714T193000
DTEND;TZID=America/New_York:20170714T210000
DTSTAMP:20260425T232337
CREATED:20170607T151230Z
LAST-MODIFIED:20170607T152853Z
UID:47425-1500060600-1500066000@theriverboston.com
SUMMARY:The O'Connor Band with Mark O'Connor at the Lowell Summer Music Series
DESCRIPTION:Lowell Summer Music Series –\nThe O’Connor Band with Mark O’Connor\nComing off their 2017 Grammy win for Best Bluegrass Album\, The O’Connor Band with Mark O’Connor\, will be at Boarding House Park in Lowell\, MA on Friday\, July 14th. \nThe concert will begin at 7:30pm. \nIn the event of inclement weather\, the concert will be moved diagonally across the street to the Lowell High School air-conditioned auditorium. \nGrab your tickets today!
URL:https://theriverboston.com/events/oconnor-band-mark-oconnor-lowell-summer-music-series/
LOCATION:Boarding House Park\, 40 French Street\, Lowell\, MA\, 01852\, United States
END:VEVENT
BEGIN:VEVENT
DTSTART;TZID=America/New_York:20170714T200000
DTEND;TZID=America/New_York:20170714T200000
DTSTAMP:20260425T232337
CREATED:20170705T161031Z
LAST-MODIFIED:20170705T161254Z
UID:49801-1500062400-1500062400@theriverboston.com
SUMMARY:Lisa Loeb | Rockport Music
DESCRIPTION:Lisa Loeb at Rockport Music\nAlternative folk singer-songwriter Lisa Loeb will be at the Shalin Liu Performance Center in Rockport\, MA on Friday\, July 14th! \nThe show begins at 8PM. \nGet your tickets today! \n 
URL:https://theriverboston.com/events/lisa-loeb-rockport-music/
LOCATION:Shalin Liu Performance Center\, 37 Main Street\, Rockport\, MA\, 01966\, United States
END:VEVENT
END:VCALENDAR