BEGIN:VCALENDAR
VERSION:2.0
PRODID:-//92.5 the River - ECPv5.16.3.1//NONSGML v1.0//EN
CALSCALE:GREGORIAN
METHOD:PUBLISH
X-WR-CALNAME:92.5 the River
X-ORIGINAL-URL:https://theriverboston.com
X-WR-CALDESC:Events for 92.5 the River
BEGIN:VTIMEZONE
TZID:America/New_York
BEGIN:DAYLIGHT
TZOFFSETFROM:-0500
TZOFFSETTO:-0400
TZNAME:EDT
DTSTART:20170312T070000
END:DAYLIGHT
BEGIN:STANDARD
TZOFFSETFROM:-0400
TZOFFSETTO:-0500
TZNAME:EST
DTSTART:20171105T060000
END:STANDARD
END:VTIMEZONE
BEGIN:VEVENT
DTSTART;TZID=America/New_York:20170725T183000
DTEND;TZID=America/New_York:20170727T183000
DTSTAMP:20260425T132318
CREATED:20170713T191752Z
LAST-MODIFIED:20170713T191752Z
UID:50495-1501007400-1501180200@theriverboston.com
SUMMARY:Palace Theatre - Children's Summer Series
DESCRIPTION:The Palace Theatre brings classic children’s movies to life in the Children’s Summer Series! They’ve got a different show every week from Tuesday-Thursday! See below to find your next family night-out: \nPeter Pan – Thursday July 13\, 2017 10:00 AM  & Thursday July 13\, 2017 6:30 PM \nWizard of Oz – Tuesday July 18\, 2017 6:30 PM\nTuesday July 18\, 2017 10:00 AM\nWednesday July 19\, 2017 10:00 AM\nWednesday July 19\, 2017 6:30 PM\nThursday July 20\, 2017 10:00 AM\nThursday July 20\, 2017 6:30 PM \nCinderella – Tuesday July 25\, 2017 6:30 PM\nTuesday July 25\, 2017 10:00 AM\nWednesday July 26\, 2017 10:00 AM\nWednesday July 26\, 2017 6:30 PM\nThursday July 27\, 2017 10:00 AM\nThursday July 27\, 2017 6:30 PM \nThe Little Mermaid – Tuesday August 1\, 2017 6:30 PM\nTuesday August 1\, 2017 10:00 AM\nWednesday August 2\, 2017 10:00 AM\nWednesday August 2\, 2017 6:30 PM\nThursday August 3\, 2017 10:00 AM\nThursday August 3\, 2017 6:30 PM \nAladdin – Tuesday August 8\, 2017 6:30 PM\nTuesday August 8\, 2017 10:00 AM\nWednesday August 9\, 2017 10:00 AM\nWednesday August 9\, 2017 6:30 PM\nThursday August 10\, 2017 10:00 AM\nThursday August 10\, 2017 6:30 PM \nSnow White & The Seven Dwarfs – Tuesday August 15\, 2017 6:30 PM\nTuesday August 15\, 2017 10:00 AM\nWednesday August 16\, 2017 10:00 AM\nWednesday August 16\, 2017 6:30 PM\nThursday August 17\, 2017 10:00 AM\nThursday August 17\, 2017 6:30 PM \nPinocchio – Tuesday August 22\, 2017 6:30 PM\nTuesday August 22\, 2017 10:00 AM\nWednesday August 23\, 2017 10:00 AM\nWednesday August 23\, 2017 6:30 PM\nThursday August 24\, 2017 10:00 AM\nThursday August 24\, 2017 6:30 PM \nAlice In Wonderland – Tuesday August 29\, 2017 10:00 AM\nTuesday August 29\, 2017 6:30 PM\nWednesday August 30\, 2017 6:30 PM\nWednesday August 30\, 2017 10:00 AM\nThursday August 31\, 2017 6:30 PM\nThursday August 31\, 2017 10:00 AM \nWin Tickets Here!
URL:https://theriverboston.com/events/palace-theatre-childrens-summer-series-3/
LOCATION:Palace Theatre\, 80 Hanover Street\, Manchester\, NH\, 03101\, United States
END:VEVENT
BEGIN:VEVENT
DTSTART;TZID=America/New_York:20170727T110000
DTEND;TZID=America/New_York:20170729T190000
DTSTAMP:20260425T132318
CREATED:20170710T181833Z
LAST-MODIFIED:20181109T210515Z
UID:50079-1501153200-1501354800@theriverboston.com
SUMMARY:2017 Bluefin Blowout
DESCRIPTION:  \nJoin the River Roadies at this years Bluefin Blowout Tournament  on Thursday\, July 27th to Saturday\, July 29th at Cape Ann’s Marina Resort in Gloucester\, MA! \nThe weekend will be a splash\, with events for everyone in the family! Bring the kids on Friday for “Family Fun Day”\, or  grab some friends and sign up for the 1st Annual Bluefin Cornhole Competition on Saturday! There is even an event long silent auction\, and a live auction Saturday night to benefit the Alzheimer’s Association. \nDon’t miss out on a weekend filled with fun and fishy festivities\, brought to you by Lyon- Waugh Auto Group! \nRegister for the cornhole competition and tournament today! \n 
URL:https://theriverboston.com/events/2017-bluefin-blowout/
LOCATION:Cape Ann’s Marina Restort\, 75 Essex Ave\, Gloucester\, MA\, 01930\, United States
END:VEVENT
BEGIN:VEVENT
DTSTART;TZID=America/New_York:20170727T170000
DTEND;TZID=America/New_York:20170727T190000
DTSTAMP:20260425T132318
CREATED:20170712T175901Z
LAST-MODIFIED:20170712T180000Z
UID:50411-1501174800-1501182000@theriverboston.com
SUMMARY:Swimming Pool Center Customer Appreciation BBQ
DESCRIPTION:Join the River Roadies and our friends at the Swimming Pool Center for a very special Customer Appreciation BBQ on Thursday\, July 27th from 5pm-7pm at their Hampstead NH location. \nThere will be games\, prizes\, face-painting\, and special discounts on some of Swimming Pool Center’s hottest summer accessories! \nHelp Swimming Pool Center say ‘Thank you’ to it’s loyal customers!
URL:https://theriverboston.com/events/swimming-pool-center-customer-appreciation-bbq/
LOCATION:Swimming Pool Center\, 138 Route 111  \, Hampstead\, NH\, 03841\, United States
END:VEVENT
END:VCALENDAR