BEGIN:VCALENDAR
VERSION:2.0
PRODID:-//92.5 the River - ECPv5.16.3.1//NONSGML v1.0//EN
CALSCALE:GREGORIAN
METHOD:PUBLISH
X-WR-CALNAME:92.5 the River
X-ORIGINAL-URL:https://theriverboston.com
X-WR-CALDESC:Events for 92.5 the River
BEGIN:VTIMEZONE
TZID:America/New_York
BEGIN:DAYLIGHT
TZOFFSETFROM:-0500
TZOFFSETTO:-0400
TZNAME:EDT
DTSTART:20170312T070000
END:DAYLIGHT
BEGIN:STANDARD
TZOFFSETFROM:-0400
TZOFFSETTO:-0500
TZNAME:EST
DTSTART:20171105T060000
END:STANDARD
END:VTIMEZONE
BEGIN:VEVENT
DTSTART;TZID=America/New_York:20170801T183000
DTEND;TZID=America/New_York:20170803T183000
DTSTAMP:20260425T102525
CREATED:20170713T191915Z
LAST-MODIFIED:20170713T191915Z
UID:50496-1501612200-1501785000@theriverboston.com
SUMMARY:Palace Theatre - Children's Summer Series
DESCRIPTION:The Palace Theatre brings classic children’s movies to life in the Children’s Summer Series! They’ve got a different show every week from Tuesday-Thursday! See below to find your next family night-out: \nPeter Pan – Thursday July 13\, 2017 10:00 AM  & Thursday July 13\, 2017 6:30 PM \nWizard of Oz – Tuesday July 18\, 2017 6:30 PM\nTuesday July 18\, 2017 10:00 AM\nWednesday July 19\, 2017 10:00 AM\nWednesday July 19\, 2017 6:30 PM\nThursday July 20\, 2017 10:00 AM\nThursday July 20\, 2017 6:30 PM \nCinderella – Tuesday July 25\, 2017 6:30 PM\nTuesday July 25\, 2017 10:00 AM\nWednesday July 26\, 2017 10:00 AM\nWednesday July 26\, 2017 6:30 PM\nThursday July 27\, 2017 10:00 AM\nThursday July 27\, 2017 6:30 PM \nThe Little Mermaid – Tuesday August 1\, 2017 6:30 PM\nTuesday August 1\, 2017 10:00 AM\nWednesday August 2\, 2017 10:00 AM\nWednesday August 2\, 2017 6:30 PM\nThursday August 3\, 2017 10:00 AM\nThursday August 3\, 2017 6:30 PM \nAladdin – Tuesday August 8\, 2017 6:30 PM\nTuesday August 8\, 2017 10:00 AM\nWednesday August 9\, 2017 10:00 AM\nWednesday August 9\, 2017 6:30 PM\nThursday August 10\, 2017 10:00 AM\nThursday August 10\, 2017 6:30 PM \nSnow White & The Seven Dwarfs – Tuesday August 15\, 2017 6:30 PM\nTuesday August 15\, 2017 10:00 AM\nWednesday August 16\, 2017 10:00 AM\nWednesday August 16\, 2017 6:30 PM\nThursday August 17\, 2017 10:00 AM\nThursday August 17\, 2017 6:30 PM \nPinocchio – Tuesday August 22\, 2017 6:30 PM\nTuesday August 22\, 2017 10:00 AM\nWednesday August 23\, 2017 10:00 AM\nWednesday August 23\, 2017 6:30 PM\nThursday August 24\, 2017 10:00 AM\nThursday August 24\, 2017 6:30 PM \nAlice In Wonderland – Tuesday August 29\, 2017 10:00 AM\nTuesday August 29\, 2017 6:30 PM\nWednesday August 30\, 2017 6:30 PM\nWednesday August 30\, 2017 10:00 AM\nThursday August 31\, 2017 6:30 PM\nThursday August 31\, 2017 10:00 AM \nWin Tickets Here!
URL:https://theriverboston.com/events/palace-theatre-childrens-summer-series-4/
LOCATION:Palace Theatre\, 80 Hanover Street\, Manchester\, NH\, 03101\, United States
END:VEVENT
BEGIN:VEVENT
DTSTART;TZID=America/New_York:20170802T190000
DTEND;TZID=America/New_York:20170802T230000
DTSTAMP:20260425T102525
CREATED:20170313T192649Z
LAST-MODIFIED:20170313T192649Z
UID:37556-1501700400-1501714800@theriverboston.com
SUMMARY:The River Presents The Shins At The House Of Blues
DESCRIPTION:  \nThe Shins are an American Indie Rock Band from Albuquerque New Mexico formed in 1996. The band is described as a pop project from the beginning. Their new album Heartworms is their fifth studio album and was released on March 10th 2017.  The Shins will be playing The House Of Blues on August 2nd at 7PM. Tickets on sale Friday March 17th at 10AM. Win before you can buy by going to our Tickets And Exclusive Offers Page. \n  \n 
URL:https://theriverboston.com/events/river-presents-shins-house-blues/
LOCATION:Citizens House Of Blues\, 15 Lansdowne Street\, Boston\, MA\, 02215\, United States
ORGANIZER;CN="92.5%20the%20River":MAILTO:promotions@wxrv.com
END:VEVENT
BEGIN:VEVENT
DTSTART;TZID=America/New_York:20170802T190000
DTEND;TZID=America/New_York:20170802T190000
DTSTAMP:20260425T102525
CREATED:20170503T183325Z
LAST-MODIFIED:20170607T171949Z
UID:43348-1501700400-1501700400@theriverboston.com
SUMMARY:Nikki Lane | Prescott Park Arts Festival
DESCRIPTION:The River House Restaurant Concert Series\nNikki Lane will be at Prescott Park in Portsmouth\, NH Wednesday\, August 2nd at 7:00 PM. \nEach Wednesday (and other nights) throughout the summer at Prescott Park\, you’ll find some top-notch and riveting performers from around the globe. All offered in a gorgeous setting for a mere suggested $8 – $10 donation. \nReserve a table or blanket here!
URL:https://theriverboston.com/events/nikki-lane/
LOCATION:Prescott Park\, 105 Marcy Street\, Portsmouth\, NH\, 03801\, United States
END:VEVENT
BEGIN:VEVENT
DTSTART;TZID=America/New_York:20170802T200000
DTEND;TZID=America/New_York:20170802T200000
DTSTAMP:20260425T102525
CREATED:20170705T163638Z
LAST-MODIFIED:20170705T163638Z
UID:49819-1501704000-1501704000@theriverboston.com
SUMMARY:Rickie Lee Jones | Rockport Music
DESCRIPTION:An Intimate Evening with Rickie Lee Jones at Rockport Music\n“Chuck E’s in Love” singer Rickie Lee Jones will be at the Shalin Liu Performance Center in Rockport\, MA on Wednesday\, August 2nd! \nThe show begins at 8PM. \nGet your tickets today!
URL:https://theriverboston.com/events/rickie-lee-jones-rockport-music/
LOCATION:Shalin Liu Performance Center\, 37 Main Street\, Rockport\, MA\, 01966\, United States
END:VEVENT
END:VCALENDAR