BEGIN:VCALENDAR
VERSION:2.0
PRODID:-//92.5 the River - ECPv5.16.3.1//NONSGML v1.0//EN
CALSCALE:GREGORIAN
METHOD:PUBLISH
X-WR-CALNAME:92.5 the River
X-ORIGINAL-URL:https://theriverboston.com
X-WR-CALDESC:Events for 92.5 the River
BEGIN:VTIMEZONE
TZID:America/New_York
BEGIN:DAYLIGHT
TZOFFSETFROM:-0500
TZOFFSETTO:-0400
TZNAME:EDT
DTSTART:20170312T070000
END:DAYLIGHT
BEGIN:STANDARD
TZOFFSETFROM:-0400
TZOFFSETTO:-0500
TZNAME:EST
DTSTART:20171105T060000
END:STANDARD
END:VTIMEZONE
BEGIN:VEVENT
DTSTART;TZID=America/New_York:20170801T183000
DTEND;TZID=America/New_York:20170803T183000
DTSTAMP:20260425T115152
CREATED:20170713T191915Z
LAST-MODIFIED:20170713T191915Z
UID:50496-1501612200-1501785000@theriverboston.com
SUMMARY:Palace Theatre - Children's Summer Series
DESCRIPTION:The Palace Theatre brings classic children’s movies to life in the Children’s Summer Series! They’ve got a different show every week from Tuesday-Thursday! See below to find your next family night-out: \nPeter Pan – Thursday July 13\, 2017 10:00 AM  & Thursday July 13\, 2017 6:30 PM \nWizard of Oz – Tuesday July 18\, 2017 6:30 PM\nTuesday July 18\, 2017 10:00 AM\nWednesday July 19\, 2017 10:00 AM\nWednesday July 19\, 2017 6:30 PM\nThursday July 20\, 2017 10:00 AM\nThursday July 20\, 2017 6:30 PM \nCinderella – Tuesday July 25\, 2017 6:30 PM\nTuesday July 25\, 2017 10:00 AM\nWednesday July 26\, 2017 10:00 AM\nWednesday July 26\, 2017 6:30 PM\nThursday July 27\, 2017 10:00 AM\nThursday July 27\, 2017 6:30 PM \nThe Little Mermaid – Tuesday August 1\, 2017 6:30 PM\nTuesday August 1\, 2017 10:00 AM\nWednesday August 2\, 2017 10:00 AM\nWednesday August 2\, 2017 6:30 PM\nThursday August 3\, 2017 10:00 AM\nThursday August 3\, 2017 6:30 PM \nAladdin – Tuesday August 8\, 2017 6:30 PM\nTuesday August 8\, 2017 10:00 AM\nWednesday August 9\, 2017 10:00 AM\nWednesday August 9\, 2017 6:30 PM\nThursday August 10\, 2017 10:00 AM\nThursday August 10\, 2017 6:30 PM \nSnow White & The Seven Dwarfs – Tuesday August 15\, 2017 6:30 PM\nTuesday August 15\, 2017 10:00 AM\nWednesday August 16\, 2017 10:00 AM\nWednesday August 16\, 2017 6:30 PM\nThursday August 17\, 2017 10:00 AM\nThursday August 17\, 2017 6:30 PM \nPinocchio – Tuesday August 22\, 2017 6:30 PM\nTuesday August 22\, 2017 10:00 AM\nWednesday August 23\, 2017 10:00 AM\nWednesday August 23\, 2017 6:30 PM\nThursday August 24\, 2017 10:00 AM\nThursday August 24\, 2017 6:30 PM \nAlice In Wonderland – Tuesday August 29\, 2017 10:00 AM\nTuesday August 29\, 2017 6:30 PM\nWednesday August 30\, 2017 6:30 PM\nWednesday August 30\, 2017 10:00 AM\nThursday August 31\, 2017 6:30 PM\nThursday August 31\, 2017 10:00 AM \nWin Tickets Here!
URL:https://theriverboston.com/events/palace-theatre-childrens-summer-series-4/
LOCATION:Palace Theatre\, 80 Hanover Street\, Manchester\, NH\, 03101\, United States
END:VEVENT
BEGIN:VEVENT
DTSTART;TZID=America/New_York:20170803T173000
DTEND;TZID=America/New_York:20170803T173000
DTSTAMP:20260425T115152
CREATED:20170719T175339Z
LAST-MODIFIED:20170719T175339Z
UID:51241-1501781400-1501781400@theriverboston.com
SUMMARY:Beverly Yankee Homecoming 5K
DESCRIPTION:The 50th Annual Beverly Yankee Homecoming 5K Road Race will take place Thursday\, August 3rd at the Greater Beverly YMCA! \nThe 5K begins at 6:30pm and the Kids Fun Run begins at 5:30pm\, both at Lynch Park in Beverly!  \nBring the whole family for a run through the beautiful ocean side suburbs!
URL:https://theriverboston.com/events/beverly-yankee-homecoming-5k-2/
LOCATION:Greater Beverly YMCA\, Lynch Park 55 Ober Street\, Beverly\, MA\, 01915\, United States
END:VEVENT
BEGIN:VEVENT
DTSTART;TZID=America/New_York:20170803T190000
DTEND;TZID=America/New_York:20170803T190000
DTSTAMP:20260425T115152
CREATED:20170619T161817Z
LAST-MODIFIED:20170619T161817Z
UID:48070-1501786800-1501786800@theriverboston.com
SUMMARY:Mary Chapin Carpenter | Prescott Park Arts Festival
DESCRIPTION:The River House Restaurant Concert Series\n Mary Chapin Carpenter will be at Prescott Park in Portsmouth\, NH on Thursday\, August 3rd at 7PM. \nEach Wednesday\, and some other nights throughout the summer\, you’ll find top-notch performers from around the globe right in downtown Portsmouth at Prescott Park! \nAll shows take place in a gorgeous outdoor setting for a mere $8 – $10 suggested donation. \nFeel free to drop off a blanket or a few chairs in the park after 3pm on the day of the concert! \nIf you’d like PPAF Staff to get your spot for you\, reserve a table or blanket here!
URL:https://theriverboston.com/events/mary-chapin-carpenter-prescott-park-arts-festival/
LOCATION:Prescott Park\, 105 Marcy Street\, Portsmouth\, NH\, 03801\, United States
END:VEVENT
END:VCALENDAR