BEGIN:VCALENDAR
VERSION:2.0
PRODID:-//92.5 the River - ECPv5.16.3.1//NONSGML v1.0//EN
CALSCALE:GREGORIAN
METHOD:PUBLISH
X-WR-CALNAME:92.5 the River
X-ORIGINAL-URL:https://theriverboston.com
X-WR-CALDESC:Events for 92.5 the River
BEGIN:VTIMEZONE
TZID:America/New_York
BEGIN:DAYLIGHT
TZOFFSETFROM:-0500
TZOFFSETTO:-0400
TZNAME:EDT
DTSTART:20170312T070000
END:DAYLIGHT
BEGIN:STANDARD
TZOFFSETFROM:-0400
TZOFFSETTO:-0500
TZNAME:EST
DTSTART:20171105T060000
END:STANDARD
END:VTIMEZONE
BEGIN:VEVENT
DTSTART;TZID=America/New_York:20170805T100000
DTEND;TZID=America/New_York:20170813T170000
DTSTAMP:20260425T132319
CREATED:20170706T183653Z
LAST-MODIFIED:20170706T184218Z
UID:49912-1501927200-1502643600@theriverboston.com
SUMMARY:League of NH Craftsmen's Fair
DESCRIPTION:  \nThe League of N.H. Craftsmen’s Fair is happening from Saturday\, August 5th – Sunday\, August 13th at the Mount Sunapee Resort in Newbury\, NH! The fair is open each day from 10 am – 5 pm. Every day there are numerous opportunities to see craftsmen at work\, or even try your own hand at craft with expert guidance. \nDaily hands on activities include printmaking workshops\, pottery school\, adult quilting workshop\, and beaded jewelry sessions. There are also daily demonstrations of artistic blacksmithing\, woodworking\, and glass blowing\, along with tons of other craftsmen exhibitions\, and live music! \nLive Music Lineup \nDIY \nBuy Tickets \n\nCheck out the top 10 reasons why you don’t want to miss this fair! \n 
URL:https://theriverboston.com/events/league-nh-craftmens-fair/
LOCATION:Mount Sunapee Resort\, 1398 Rte 103\, Newbury\, 03255\, United States
END:VEVENT
BEGIN:VEVENT
DTSTART;TZID=America/New_York:20170813T120000
DTEND;TZID=America/New_York:20170813T140000
DTSTAMP:20260425T132319
CREATED:20170802T151733Z
LAST-MODIFIED:20170802T151733Z
UID:52516-1502625600-1502632800@theriverboston.com
SUMMARY:Irving Oil Pump Up The Fun Giveaway
DESCRIPTION:Join the River Roadies and River midday Host\, Carolyn Morrell at the Circle K in Salem\, MA for the Irving Oil Pump Up The Fun Giveaway on Sunday August\, 13th from 12pm-2pm! \nGet your game ticket and collector card until September 5 at participating Irving Oil locations for chances to WIN awesome prizes all summer long!  \nYou could WIN $100\,000\, a Ford 150\, FREE gas for a year\, and more! \n 
URL:https://theriverboston.com/events/irving-oil-pump-fun-giveaway/
LOCATION:Circle K\, 323 Highland Ave\, Salem\, MA\, United States
END:VEVENT
END:VCALENDAR