BEGIN:VCALENDAR
VERSION:2.0
PRODID:-//92.5 the River - ECPv5.16.3.1//NONSGML v1.0//EN
CALSCALE:GREGORIAN
METHOD:PUBLISH
X-WR-CALNAME:92.5 the River
X-ORIGINAL-URL:https://theriverboston.com
X-WR-CALDESC:Events for 92.5 the River
BEGIN:VTIMEZONE
TZID:America/New_York
BEGIN:DAYLIGHT
TZOFFSETFROM:-0500
TZOFFSETTO:-0400
TZNAME:EDT
DTSTART:20170312T070000
END:DAYLIGHT
BEGIN:STANDARD
TZOFFSETFROM:-0400
TZOFFSETTO:-0500
TZNAME:EST
DTSTART:20171105T060000
END:STANDARD
END:VTIMEZONE
BEGIN:VEVENT
DTSTART;TZID=America/New_York:20170815T183000
DTEND;TZID=America/New_York:20170817T183000
DTSTAMP:20260425T102310
CREATED:20170713T192201Z
LAST-MODIFIED:20170713T192201Z
UID:50498-1502821800-1502994600@theriverboston.com
SUMMARY:Palace Theatre - Children's Summer Series
DESCRIPTION:The Palace Theatre brings classic children’s movies to life in the Children’s Summer Series! They’ve got a different show every week from Tuesday-Thursday! See below to find your next family night-out: \nPeter Pan – Thursday July 13\, 2017 10:00 AM  & Thursday July 13\, 2017 6:30 PM \nWizard of Oz – Tuesday July 18\, 2017 6:30 PM\nTuesday July 18\, 2017 10:00 AM\nWednesday July 19\, 2017 10:00 AM\nWednesday July 19\, 2017 6:30 PM\nThursday July 20\, 2017 10:00 AM\nThursday July 20\, 2017 6:30 PM \nCinderella – Tuesday July 25\, 2017 6:30 PM\nTuesday July 25\, 2017 10:00 AM\nWednesday July 26\, 2017 10:00 AM\nWednesday July 26\, 2017 6:30 PM\nThursday July 27\, 2017 10:00 AM\nThursday July 27\, 2017 6:30 PM \nThe Little Mermaid – Tuesday August 1\, 2017 6:30 PM\nTuesday August 1\, 2017 10:00 AM\nWednesday August 2\, 2017 10:00 AM\nWednesday August 2\, 2017 6:30 PM\nThursday August 3\, 2017 10:00 AM\nThursday August 3\, 2017 6:30 PM \nAladdin – Tuesday August 8\, 2017 6:30 PM\nTuesday August 8\, 2017 10:00 AM\nWednesday August 9\, 2017 10:00 AM\nWednesday August 9\, 2017 6:30 PM\nThursday August 10\, 2017 10:00 AM\nThursday August 10\, 2017 6:30 PM \nSnow White & The Seven Dwarfs – Tuesday August 15\, 2017 6:30 PM\nTuesday August 15\, 2017 10:00 AM\nWednesday August 16\, 2017 10:00 AM\nWednesday August 16\, 2017 6:30 PM\nThursday August 17\, 2017 10:00 AM\nThursday August 17\, 2017 6:30 PM \nPinocchio – Tuesday August 22\, 2017 6:30 PM\nTuesday August 22\, 2017 10:00 AM\nWednesday August 23\, 2017 10:00 AM\nWednesday August 23\, 2017 6:30 PM\nThursday August 24\, 2017 10:00 AM\nThursday August 24\, 2017 6:30 PM \nAlice In Wonderland – Tuesday August 29\, 2017 10:00 AM\nTuesday August 29\, 2017 6:30 PM\nWednesday August 30\, 2017 6:30 PM\nWednesday August 30\, 2017 10:00 AM\nThursday August 31\, 2017 6:30 PM\nThursday August 31\, 2017 10:00 AM \nWin Tickets Here!
URL:https://theriverboston.com/events/palace-theatre-childrens-summer-series-6/
LOCATION:Palace Theatre\, 80 Hanover Street\, Manchester\, NH\, 03101\, United States
END:VEVENT
BEGIN:VEVENT
DTSTART;TZID=America/New_York:20170816T120000
DTEND;TZID=America/New_York:20170816T140000
DTSTAMP:20260425T102310
CREATED:20170508T172822Z
LAST-MODIFIED:20170508T172822Z
UID:43667-1502884800-1502892000@theriverboston.com
SUMMARY:Picnic in the Park | Veteran's Park
DESCRIPTION:The Greater Manchester Chamber of Commerce is hosting a community appreciation picnic in Manchester\, NH at Veteran’s Park on August 16th from 12:00pm-2:00pm! The River will be on site playing great music along with food trucks and lawn games for a fun\, relaxing afternoon! You\, your friends\, and colleagues are welcome to join the fun – no registration required!
URL:https://theriverboston.com/events/picnic-park-veterans-park/
LOCATION:Veteran’s Park\, 889 Elm St\, Manchester\, NH\, 03101\, United States
END:VEVENT
BEGIN:VEVENT
DTSTART;TZID=America/New_York:20170816T190000
DTEND;TZID=America/New_York:20170816T190000
DTSTAMP:20260425T102310
CREATED:20170503T181729Z
LAST-MODIFIED:20170504T184642Z
UID:43333-1502910000-1502910000@theriverboston.com
SUMMARY:Taj Mahal and Keb Mo
DESCRIPTION:The River House Restaurant Concert Series\nTaj Mahal and Keb Mo will be at Prescott Park in Portsmouth\, NH Wednesday\, August 16th at 7:00 PM. \nEach Wednesday (and other nights) throughout the summer at Prescott Park\, you’ll find some top-notch and riveting performers from around the globe. All offered in a gorgeous setting for a mere suggested $8 – $10 donation. \nReserve a table or blanket here!
URL:https://theriverboston.com/events/taj-mahal-keb-mo/
LOCATION:Prescott Park\, 105 Marcy Street\, Portsmouth\, NH\, 03801\, United States
END:VEVENT
BEGIN:VEVENT
DTSTART;TZID=America/New_York:20170816T190000
DTEND;TZID=America/New_York:20170816T210000
DTSTAMP:20260425T102310
CREATED:20170816T175850Z
LAST-MODIFIED:20170816T175850Z
UID:53159-1502910000-1502917200@theriverboston.com
SUMMARY:Gate City Brewfest Pre- Party Kick Off
DESCRIPTION:Join the River Roadies at the Peddler’s Daughter in Nashua\, NH for the Gate City Brewfest Pre- Party Kick Off! \nThis is your last chance to get tickets to the Gate City Brewfest on Saturday for 5 dollars off! Free beers\, wings\, and prizes from the River! \nDon’t miss it!
URL:https://theriverboston.com/events/gate-city-brewfest-pre-party-kick-off/
LOCATION:The Peddler’s Daughter\, 48 Main Street\, Nashua\, NH\, 03060\, United States
END:VEVENT
END:VCALENDAR