BEGIN:VCALENDAR
VERSION:2.0
PRODID:-//92.5 the River - ECPv5.16.3.1//NONSGML v1.0//EN
CALSCALE:GREGORIAN
METHOD:PUBLISH
X-WR-CALNAME:92.5 the River
X-ORIGINAL-URL:https://theriverboston.com
X-WR-CALDESC:Events for 92.5 the River
BEGIN:VTIMEZONE
TZID:America/New_York
BEGIN:DAYLIGHT
TZOFFSETFROM:-0500
TZOFFSETTO:-0400
TZNAME:EDT
DTSTART:20170312T070000
END:DAYLIGHT
BEGIN:STANDARD
TZOFFSETFROM:-0400
TZOFFSETTO:-0500
TZNAME:EST
DTSTART:20171105T060000
END:STANDARD
END:VTIMEZONE
BEGIN:VEVENT
DTSTART;TZID=America/New_York:20170915T193000
DTEND;TZID=America/New_York:20170918T173600
DTSTAMP:20260425T085406
CREATED:20170918T173631Z
LAST-MODIFIED:20170918T173855Z
UID:56097-1505503800-1505756160@theriverboston.com
SUMMARY:Palace Theatre's Oliver - Opening Night!
DESCRIPTION:Tickets on sale!\n\nBringing Charles Dickens’ beloved novel to life\, Lionel Bart’s Oliver! takes audiences on a wild adventure through Victorian England. Join young\, orphaned Oliver Twist as he navigates the London’s underworld of theft and violence\, searching for a home\, a family\, and – most importantly – for love. \nShow Times \nFriday\, September 15\nSaturday\, September 16\nSunday\, September 17\nFriday September 22\nSaturday September 23\nSunday September 24\nThursday September 28\nFriday September 29\nSaturday September 30\nSunday October 1
URL:https://theriverboston.com/events/palace-theatres-oliver-opening-night/
LOCATION:Palace Theatre\, 80 Hanover Street\, Manchester\, NH\, 03101\, United States
END:VEVENT
BEGIN:VEVENT
DTSTART;VALUE=DATE:20170916
DTEND;VALUE=DATE:20170918
DTSTAMP:20260425T085406
CREATED:20170907T185439Z
LAST-MODIFIED:20170914T161719Z
UID:55296-1505520000-1505692799@theriverboston.com
SUMMARY:Festival at the Farm
DESCRIPTION:Festival at the Farm\nProwse Farm\, Canton MA\nSeptember 16th & 17th \nSpend the last days of summer enjoying live music with the picturesque Blue Hills as the backdrop. Enjoy their delicious food and drink. Take a break from the tunes and hit up their backyard games\, farmers markets\, artist vendors and culinary workshops. \nWe will also be onsite on Saturday with Salem Five to kick off the Music Matters program. The competition is open to high school student musicians/singer songwriters. Interested students can submit a video performance of their original song for a chance to win $1\,500 for their school’s music department; the opportunity to open at Riverfeast (the annual benefit concert for the Greater Boston Food Bank); and a recording session in the legendary River Music Hall. To find out more\, stop by the Salem Five and River tents onsite at Festival at the Farm. \nEnjoy performances from past Music Matters winners: Katrina Gustafson and LuxDeluxe\, and participate in a drum circle facilitated by Tim Kane of Kane School of Drums!
URL:https://theriverboston.com/events/festival-at-the-farm-2/
LOCATION:Prowse Farm\, 5 Blue Hill River Rd.\, Canton\, MA\, 02021\, United States
END:VEVENT
BEGIN:VEVENT
DTSTART;VALUE=DATE:20170917
DTEND;VALUE=DATE:20170918
DTSTAMP:20260425T085406
CREATED:20170612T172555Z
LAST-MODIFIED:20170612T172555Z
UID:47660-1505606400-1505692799@theriverboston.com
SUMMARY:New Hampshire Highland Games & Festival
DESCRIPTION:The New Hampshire Highland Games and Festival  brings Scottish culture to New Hampshire! The festival is one of the largest celebrations of Scottish heritage in North America. It features traditional Scottish food\, dancing\, music\, and athletics! You will feel like a true Scot for the day! The Highland Games and Festival is on September 15\, 16\, and 17 at Loon Mountain! \nBuy your tickets here!
URL:https://theriverboston.com/events/new-hampshire-highland-games-festival-4/
LOCATION:Loon Mountain\, 60 Loon Mountain Road\, Lincoln\, 03251\, United States
END:VEVENT
BEGIN:VEVENT
DTSTART;TZID=America/New_York:20170917T120000
DTEND;TZID=America/New_York:20170917T180000
DTSTAMP:20260425T085406
CREATED:20170908T151250Z
LAST-MODIFIED:20170908T151939Z
UID:55318-1505649600-1505671200@theriverboston.com
SUMMARY:Sunflower Festival | Tendercrop Farm
DESCRIPTION:On September 16th and 17th visit the Red Barn at Tendercrop Farm in Dover\, NH for the annual Sunflower Festival! The River Roadies will be onsite SUNDAY with concert tickets and station merch to giveaway! Bring the whole family and enjoy live music\, hay rides\, a bounce house\, and petting zoo. Their TWO corn mazes (one for adults and one for children) are now open to the public – so get lost in the maze!\nTickets are $15 and kids 6 and under are free.\nEnjoy the last few days of summer with sunflowers and more at Tendercrop Farm!
URL:https://theriverboston.com/events/sunflower-festival-tendercrop-farm/
LOCATION:Red Bar at Tendercrop Farm\, 123 Dover Point Rd\, Dover\, NH\, 03820\, United States
END:VEVENT
END:VCALENDAR