BEGIN:VCALENDAR
VERSION:2.0
PRODID:-//92.5 the River - ECPv5.16.3.1//NONSGML v1.0//EN
CALSCALE:GREGORIAN
METHOD:PUBLISH
X-WR-CALNAME:92.5 the River
X-ORIGINAL-URL:https://theriverboston.com
X-WR-CALDESC:Events for 92.5 the River
BEGIN:VTIMEZONE
TZID:America/New_York
BEGIN:DAYLIGHT
TZOFFSETFROM:-0500
TZOFFSETTO:-0400
TZNAME:EDT
DTSTART:20170312T070000
END:DAYLIGHT
BEGIN:STANDARD
TZOFFSETFROM:-0400
TZOFFSETTO:-0500
TZNAME:EST
DTSTART:20171105T060000
END:STANDARD
END:VTIMEZONE
BEGIN:VEVENT
DTSTART;TZID=America/New_York:20170922T200000
DTEND;TZID=America/New_York:20170922T200000
DTSTAMP:20260425T164757
CREATED:20170906T160347Z
LAST-MODIFIED:20170906T160347Z
UID:55279-1506110400-1506110400@theriverboston.com
SUMMARY:Bettye Lavette | Rockport Music
DESCRIPTION:Bettye Lavette\nShalin Liu Performance Center\nFriday\, September 22nd – 8:00 pm\n \nBettye LaVette is no mere singer. She is an interpreter of the highest order. Whether the song originated as country\, rock\, pop\, or blues\, when she gets through with it\, it is pure R&B. She gets inside a song and shapes and twists it to convey all of the emotion that can be wrought from the lyric.
URL:https://theriverboston.com/events/bettye-lavette-rockport-music/
LOCATION:Shalin Liu Performance Center\, 37 Main Street\, Rockport\, MA\, 01966\, United States
END:VEVENT
END:VCALENDAR