BEGIN:VCALENDAR
VERSION:2.0
PRODID:-//92.5 the River - ECPv5.16.3.1//NONSGML v1.0//EN
CALSCALE:GREGORIAN
METHOD:PUBLISH
X-WR-CALNAME:92.5 the River
X-ORIGINAL-URL:https://theriverboston.com
X-WR-CALDESC:Events for 92.5 the River
BEGIN:VTIMEZONE
TZID:America/New_York
BEGIN:DAYLIGHT
TZOFFSETFROM:-0500
TZOFFSETTO:-0400
TZNAME:EDT
DTSTART:20170312T070000
END:DAYLIGHT
BEGIN:STANDARD
TZOFFSETFROM:-0400
TZOFFSETTO:-0500
TZNAME:EST
DTSTART:20171105T060000
END:STANDARD
END:VTIMEZONE
BEGIN:VEVENT
DTSTART;TZID=America/New_York:20170923T120000
DTEND;TZID=America/New_York:20170923T203000
DTSTAMP:20260425T183605
CREATED:20170905T134832Z
LAST-MODIFIED:20170911T115900Z
UID:53043-1506168000-1506198600@theriverboston.com
SUMMARY:River Ruckus 2017
DESCRIPTION:92.5 the River and Team Haverhill Present:\nRiver Ruckus\nSaturday\, September 23rd\nNoon – 8:30pm\n2017 River Ruckus Lineup\n\n\n\nTIME\nARTIST\n\n\n12:30 – 12:55 PM\nBliss\n\n\n1:15 – 1:40 PM\nGretchen and the Pickpockets\n\n\n2:00 – 2:30 PM\nEJ Ouellette\n\n\n2:50 – 3:30 PM\nAnalog Heart\n\n\n3:50 – 4:30 PM\nNeon Alley\n\n\n4:50 – 5:50 PM\nAnderson East \n\n\n6:15 – 7:30 PM\nDave Pirner of Soul Asylum
URL:https://theriverboston.com/events/river-ruckus-2017/
LOCATION:Haverhill’s Riverfront Cultural district
END:VEVENT
END:VCALENDAR