BEGIN:VCALENDAR
VERSION:2.0
PRODID:-//92.5 the River - ECPv5.16.3.1//NONSGML v1.0//EN
CALSCALE:GREGORIAN
METHOD:PUBLISH
X-WR-CALNAME:92.5 the River
X-ORIGINAL-URL:https://theriverboston.com
X-WR-CALDESC:Events for 92.5 the River
BEGIN:VTIMEZONE
TZID:America/New_York
BEGIN:DAYLIGHT
TZOFFSETFROM:-0500
TZOFFSETTO:-0400
TZNAME:EDT
DTSTART:20170312T070000
END:DAYLIGHT
BEGIN:STANDARD
TZOFFSETFROM:-0400
TZOFFSETTO:-0500
TZNAME:EST
DTSTART:20171105T060000
END:STANDARD
END:VTIMEZONE
BEGIN:VEVENT
DTSTART;TZID=America/New_York:20170929T160000
DTEND;TZID=America/New_York:20170929T180000
DTSTAMP:20260425T085406
CREATED:20170925T165629Z
LAST-MODIFIED:20170925T165629Z
UID:56296-1506700800-1506708000@theriverboston.com
SUMMARY:Deerfield Fair with the River Roadies!
DESCRIPTION:DEERFIELD FAIR\nSeptember 28th – October 1st\n34 Stage Rd. Deerfield\, NH\nJoin the River Roadies for another fun event! This time\, at the Deerfield Fair! We’ll be onsite Friday from 4:00-6:00pm to give out River merch and sign you up for Tickets & Exclusive Offers!
URL:https://theriverboston.com/events/deerfield-fair-river-roadies/
LOCATION:Deerfield Fair\, 34 Stage Rd\, Deerfield\, NH\, 03037\, United States
END:VEVENT
BEGIN:VEVENT
DTSTART;TZID=America/New_York:20170929T200000
DTEND;TZID=America/New_York:20170929T200000
DTSTAMP:20260425T085406
CREATED:20170906T160931Z
LAST-MODIFIED:20170906T160931Z
UID:55281-1506715200-1506715200@theriverboston.com
SUMMARY:Live from Laurel Canyon | Rockport Music
DESCRIPTION:Live from Laurel Canyon\nShalin Liu Performance Center\nFriday\, September 29th – 8:00 pm \nThe Laurel Canyon show is a kind of a tribute…but to a place and time.  Led by Brian Chartrand (of Sweet Remains) and featuring an impressive diverse cast of singers and artists\, it tells the story of the musicians who came out of southern California in the 60s & 70s with original arrangements\, songs and stories about the history and connection between the artists.
URL:https://theriverboston.com/events/live-laurel-canyon-rockport-music/
LOCATION:Shalin Liu Performance Center\, 37 Main Street\, Rockport\, MA\, 01966\, United States
END:VEVENT
BEGIN:VEVENT
DTSTART;TZID=America/New_York:20170929T200000
DTEND;TZID=America/New_York:20170929T230000
DTSTAMP:20260425T085406
CREATED:20170928T175616Z
LAST-MODIFIED:20170928T175616Z
UID:57047-1506715200-1506726000@theriverboston.com
SUMMARY:City Winery Boston Presents: Dan Wilson of Semisonic
DESCRIPTION:City Winery Presents: Words & Music by Dan Wilson at The Red Room at Cafe 939\nWords & Music by Dan Wilson will feature an evening of songs and stories that pull back the curtain on the art of songwriting. A Grammy-winning singer-songwriter and producer\, Wilson has written by himself and with collaborators such as Adele\, Dixie Chicks\, and Carole King. He will share writing insight and tell the stories behind the songs\, including some of his most successful collaborations. \nREAD MORE
URL:https://theriverboston.com/events/city-winery-boston-presents-dan-wilson-semisonic/
LOCATION:The Red Room at Cafe 939\, 939 Boylston St.\, Boston\, MA\, 02115\, United States
END:VEVENT
BEGIN:VEVENT
DTSTART;TZID=America/New_York:20170929T200000
DTEND;TZID=America/New_York:20170929T230000
DTSTAMP:20260425T085406
CREATED:20170928T175948Z
LAST-MODIFIED:20170928T175948Z
UID:57052-1506715200-1506726000@theriverboston.com
SUMMARY:City Winery Boston Presents: The Church w/ The Helio Sequence
DESCRIPTION:The Church w/ The Helio Sequence presented by City Winery and TCAN\nIt’s a unique band that finds itself cherished as a bona fide legend in the ARIA Hall of Fame while remaining a virtual enigma to the world that knows its name. But maybe that’s no more remarkable than the mystery that continues to unfold within its own ranks. \nREAD MORE
URL:https://theriverboston.com/events/city-winery-boston-presents-church-w-helio-sequence/
LOCATION:The Center for the Arts in Natick\, 14 Summer St.\, Natick\, MA\, 01760\, United States
END:VEVENT
END:VCALENDAR