BEGIN:VCALENDAR
VERSION:2.0
PRODID:-//92.5 the River - ECPv5.16.3.1//NONSGML v1.0//EN
CALSCALE:GREGORIAN
METHOD:PUBLISH
X-WR-CALNAME:92.5 the River
X-ORIGINAL-URL:https://theriverboston.com
X-WR-CALDESC:Events for 92.5 the River
BEGIN:VTIMEZONE
TZID:America/New_York
BEGIN:DAYLIGHT
TZOFFSETFROM:-0500
TZOFFSETTO:-0400
TZNAME:EDT
DTSTART:20170312T070000
END:DAYLIGHT
BEGIN:STANDARD
TZOFFSETFROM:-0400
TZOFFSETTO:-0500
TZNAME:EST
DTSTART:20171105T060000
END:STANDARD
END:VTIMEZONE
BEGIN:VEVENT
DTSTART;TZID=America/New_York:20171001T090000
DTEND;TZID=America/New_York:20171001T090000
DTSTAMP:20260425T114912
CREATED:20170828T163726Z
LAST-MODIFIED:20181109T210542Z
UID:55027-1506848400-1506848400@theriverboston.com
SUMMARY:Apple Harvest Run
DESCRIPTION:Mark your calendars for Sunday\, October 1st for one of the best autumn races in the region. Situated in the pastoral town of West Newbury\, MA\, just 10 minutes from beautiful downtown Newburyport\, experience an invigorating closed course\, spectacular foliage\, food and entertainment. The race includes a USATF certified courses travel over rolling hills on picturesque country roads for the 5-mile & 5K run or Health walk – The children’s 1-mile fun run is a favorite too!\nFREE Apple Harvest Run SHORT SLEEVE T-SHIRTS to the first 500 entrants registered for the 5 mile or 5K events before September 25\, 2017\nWe are also excited to announce that Newburyport Brewing Co. has joined us as a top sponsor! Their support will help us make this year’s 28th Annual Apple Harvest Run and Fall Festival one of the region’s not-to-miss fall events. Sign up today for the most beautiful race on the North Shore. \nMost importantly – 100% of proceeds benefit educational programs at the Dr. John C. Page Elementary School. \nRegister at http://www.appleharvestrun.org.
URL:https://theriverboston.com/events/apple-harvest-run/
LOCATION:Action Cove Playground/Baseball Fields\, 15 Bachelor Street\, West Newbury\, MA\, 01985\, United States
END:VEVENT
BEGIN:VEVENT
DTSTART;TZID=America/New_York:20171001T140000
DTEND;TZID=America/New_York:20171001T140000
DTSTAMP:20260425T114912
CREATED:20170918T174038Z
LAST-MODIFIED:20170918T181555Z
UID:56098-1506866400-1506866400@theriverboston.com
SUMMARY:Palace Theatre's Oliver - Closing Night!
DESCRIPTION:Tickets on sale!\n\nBringing Charles Dickens’ beloved novel to life\, Lionel Bart’s Oliver! takes audiences on a wild adventure through Victorian England. Join young\, orphaned Oliver Twist as he navigates the London’s underworld of theft and violence\, searching for a home\, a family\, and – most importantly – for love. \nShow Times \nFriday\, September 15\nSaturday\, September 16\nSunday\, September 17\nFriday September 22\nSaturday September 23\nSunday September 24\nThursday September 28\nFriday September 29\nSaturday September 30\nSunday October 1
URL:https://theriverboston.com/events/palace-theatres-oliver-closing-night/
LOCATION:Palace Theatre\, 80 Hanover Street\, Manchester\, NH\, 03101\, United States
END:VEVENT
END:VCALENDAR