BEGIN:VCALENDAR
VERSION:2.0
PRODID:-//92.5 the River - ECPv5.16.3.1//NONSGML v1.0//EN
CALSCALE:GREGORIAN
METHOD:PUBLISH
X-WR-CALNAME:92.5 the River
X-ORIGINAL-URL:https://theriverboston.com
X-WR-CALDESC:Events for 92.5 the River
BEGIN:VTIMEZONE
TZID:America/New_York
BEGIN:DAYLIGHT
TZOFFSETFROM:-0500
TZOFFSETTO:-0400
TZNAME:EDT
DTSTART:20170312T070000
END:DAYLIGHT
BEGIN:STANDARD
TZOFFSETFROM:-0400
TZOFFSETTO:-0500
TZNAME:EST
DTSTART:20171105T060000
END:STANDARD
END:VTIMEZONE
BEGIN:VEVENT
DTSTART;TZID=America/New_York:20171007T110000
DTEND;TZID=America/New_York:20171007T160000
DTSTAMP:20260425T215627
CREATED:20170811T155848Z
LAST-MODIFIED:20170811T160448Z
UID:52934-1507374000-1507392000@theriverboston.com
SUMMARY:The 6th Annual Exeter Powder Keg Beer & Chili Festival
DESCRIPTION:Join us once again for the 6th Annual Exeter Powder Keg Beer & Chili Festival in Exeter\, New Hampshire! If you love beer\, you’ll LOVE this festival. Sample over 50 breweries along with many New Hampshire Restaurant’s Chili on Saturday\, October 7th. Gates open at 11 am. This is the only family friendly brew fest in the area! Bring the whole family – youth and designated driver tickets are available as well.\nWe’ll be onsite as well so make sure to stop by the River tent and spin our prize wheel to win concert tickets and River merch!\nPurchase tickets now!
URL:https://theriverboston.com/events/6th-annual-exeter-powder-keg-beer-chili-festival/
LOCATION:Swasey Parkway\, Swasey Parkway\, Exeter\, NH\, 03833\, United States
END:VEVENT
BEGIN:VEVENT
DTSTART;TZID=America/New_York:20171007T120000
DTEND;TZID=America/New_York:20171008T170000
DTSTAMP:20260425T215627
CREATED:20170929T200317Z
LAST-MODIFIED:20170929T200317Z
UID:57510-1507377600-1507482000@theriverboston.com
SUMMARY:ARToberfest 2017
DESCRIPTION:at Western Avenue Studios \nSaturday & Sunday October 7th & 8th\nCome to Western Avenue Studios & Lofts!\nDuring the October Open Studios on Saturday\, October 7th and Sunday\, October 8th we will be celebrating our 3rd Annual ARToberfest. Visit over 100 artist studios to learn\, shop\, and be inspired!\n\nSaturday\, October 7th and Sunday\, October 8th: 12-5pm – Two full days of open art studios and lofts – meet the artists\, browse the art\, buy the art. (FREE Event and Free parking.)\n\n\nTake part in art-themed activities for all ages including art demonstrations. Craft Beer Tasting on-site at Navigation Brewing Co. See Artists’ Pumpkin Creations and vote for your favorite…you could win an excellent prize!\nDelicious local food trucks both days and Sub Zero Nitrogen Ice Cream on the Loading Dock!\n\n\nAlso on Saturday\, October 7th from 5-7pm\nThe Loading Dock Gallery will host an exhibit opening reception of their new exhibit “Unmentionables” with a Poetry Convergence — where art and words collide.
URL:https://theriverboston.com/events/artoberfest-2017/
LOCATION:Western Avenue Studios\, 122 Western Ave\, Lowell\, MA\, 01851\, United States
END:VEVENT
END:VCALENDAR