BEGIN:VCALENDAR
VERSION:2.0
PRODID:-//92.5 the River - ECPv5.16.3.1//NONSGML v1.0//EN
CALSCALE:GREGORIAN
METHOD:PUBLISH
X-WR-CALNAME:92.5 the River
X-ORIGINAL-URL:https://theriverboston.com
X-WR-CALDESC:Events for 92.5 the River
BEGIN:VTIMEZONE
TZID:America/New_York
BEGIN:DAYLIGHT
TZOFFSETFROM:-0500
TZOFFSETTO:-0400
TZNAME:EDT
DTSTART:20180311T070000
END:DAYLIGHT
BEGIN:STANDARD
TZOFFSETFROM:-0400
TZOFFSETTO:-0500
TZNAME:EST
DTSTART:20181104T060000
END:STANDARD
END:VTIMEZONE
BEGIN:VEVENT
DTSTART;TZID=America/New_York:20180525T120000
DTEND;TZID=America/New_York:20180527T220000
DTSTAMP:20260419T101313
CREATED:20180508T195451Z
LAST-MODIFIED:20180510T210221Z
UID:84115-1527249600-1527458400@theriverboston.com
SUMMARY:Boston Calling Music Festival
DESCRIPTION:Boston Calling is a three day music festival held in Allston\, Massachusetts. The 2018 lineup includes The Killers\, Portugal. The Man\, Jack White\, Queens of the Stone Age\, Eminem\, and more! In addition to the music\, Boston Calling has more food and drink options than ever\, including Union Square Donuts\, Aracini Brothers\, and Whole Heart Provisions!  Tickets for the festival can be found here . \nBelow is the recently announced day-by-day lineup with set times:
URL:https://theriverboston.com/events/boston-calling-music-festival-3/
LOCATION:Harvard Athletic Complex\, Allston\, Massachusetts\, United States
END:VEVENT
END:VCALENDAR