BEGIN:VCALENDAR
VERSION:2.0
PRODID:-//92.5 the River - ECPv5.16.3.1//NONSGML v1.0//EN
CALSCALE:GREGORIAN
METHOD:PUBLISH
X-WR-CALNAME:92.5 the River
X-ORIGINAL-URL:https://theriverboston.com
X-WR-CALDESC:Events for 92.5 the River
BEGIN:VTIMEZONE
TZID:America/New_York
BEGIN:DAYLIGHT
TZOFFSETFROM:-0500
TZOFFSETTO:-0400
TZNAME:EDT
DTSTART:20180311T070000
END:DAYLIGHT
BEGIN:STANDARD
TZOFFSETFROM:-0400
TZOFFSETTO:-0500
TZNAME:EST
DTSTART:20181104T060000
END:STANDARD
END:VTIMEZONE
BEGIN:VEVENT
DTSTART;TZID=America/New_York:20180605T193000
DTEND;TZID=America/New_York:20180605T193000
DTSTAMP:20260419T225622
CREATED:20180516T151135Z
LAST-MODIFIED:20180516T170146Z
UID:85023-1528227000-1528227000@theriverboston.com
SUMMARY:MAME @ Bill Hanney's North Short Music Theatre
DESCRIPTION:MAME is coming to Bill Hanney’s North Shore Music Theatre on June 5th! Follow everyone’s favorite auntie\, Mame Dennis (played by PAIGE DAVIS\, Broadway Veteran and star of TRADING SPACES)\, on her madcap adventures. Joined by her nephew and surrounded by an eccentric cast of characters\, she celebrates the Roaring 20s\, overcomes tragedy\, and perseveres through life with humor and style\, all without missing a fad or a dance step. READ MORE. \nMAME will be running from June 5th until June 17th! View tickets and showtime information. You can also follow the venue on Instagram and Twitter!
URL:https://theriverboston.com/events/mame-bill-hanneys-north-short-music-theatre/
LOCATION:North Shore Music Theatre\, 62 Dunham Road\, Beverly\, MA\, 01915\, United States
END:VEVENT
END:VCALENDAR