BEGIN:VCALENDAR
VERSION:2.0
PRODID:-//92.5 the River - ECPv5.16.3.1//NONSGML v1.0//EN
CALSCALE:GREGORIAN
METHOD:PUBLISH
X-WR-CALNAME:92.5 the River
X-ORIGINAL-URL:https://theriverboston.com
X-WR-CALDESC:Events for 92.5 the River
BEGIN:VTIMEZONE
TZID:America/New_York
BEGIN:DAYLIGHT
TZOFFSETFROM:-0500
TZOFFSETTO:-0400
TZNAME:EDT
DTSTART:20180311T070000
END:DAYLIGHT
BEGIN:STANDARD
TZOFFSETFROM:-0400
TZOFFSETTO:-0500
TZNAME:EST
DTSTART:20181104T060000
END:STANDARD
END:VTIMEZONE
BEGIN:VEVENT
DTSTART;TZID=America/New_York:20180610T100000
DTEND;TZID=America/New_York:20180610T143000
DTSTAMP:20260420T102534
CREATED:20180305T144919Z
LAST-MODIFIED:20180403T141906Z
UID:76900-1528624800-1528641000@theriverboston.com
SUMMARY:Seacoast Science Center - World Ocean Day
DESCRIPTION:Join 92.5 the River in celebrating World Ocean Day!\nJoin us for a FREE day of fun and educational activities and celebrate the important role the world ocean plays in our lives and grand opening of H2O Today\, an exhibition organized by the Smithsonian Institution Traveling Exhibition Service. \n \nWorld Ocean Day is a global celebration and collaboration for a healthier future for our ocean. Our health and our ocean’s health are connected. Over half of the oxygen we breathe is produced in the ocean\, and the ocean is the heart of our planet\, circulating heat and water and regulating our climate. Together\, we can make a difference and keep our ocean healthy for future generations. Join us in honoring our ocean and do something to protect it! \nRiver Homegrown Artist Bliss will be performing from 12:30PM – 2PM and the River Roadies will be there from 11AM-1PM!
URL:https://theriverboston.com/events/seacoast-science-center-world-ocean-day/
LOCATION:Seacoast Science Center\, 570 Ocean Blvd\, Rye\, NH\, 03870\, United States
ORGANIZER;CN="92.5%20the%20River":MAILTO:promotions@wxrv.com
END:VEVENT
END:VCALENDAR