BEGIN:VCALENDAR
VERSION:2.0
PRODID:-//92.5 the River - ECPv5.16.3.1//NONSGML v1.0//EN
CALSCALE:GREGORIAN
METHOD:PUBLISH
X-WR-CALNAME:92.5 the River
X-ORIGINAL-URL:https://theriverboston.com
X-WR-CALDESC:Events for 92.5 the River
BEGIN:VTIMEZONE
TZID:America/New_York
BEGIN:DAYLIGHT
TZOFFSETFROM:-0500
TZOFFSETTO:-0400
TZNAME:EDT
DTSTART:20180311T070000
END:DAYLIGHT
BEGIN:STANDARD
TZOFFSETFROM:-0400
TZOFFSETTO:-0500
TZNAME:EST
DTSTART:20181104T060000
END:STANDARD
END:VTIMEZONE
BEGIN:VEVENT
DTSTART;TZID=America/New_York:20180614T184500
DTEND;TZID=America/New_York:20180614T204500
DTSTAMP:20260420T170013
CREATED:20180404T170254Z
LAST-MODIFIED:20180404T210702Z
UID:80998-1529001900-1529009100@theriverboston.com
SUMMARY:Lowell Summer Music Series - David Crosby
DESCRIPTION:David Crosby at the Lowell Summer Music Series\nDavid Crosby is performing at the Lowell Summer Music Series on Thursday\, June 24th with special guest Chris Hillman!  The show begins at 7:30\, so get there early to hang out with our River Street Team! \nTickets to see the legendary musician are on sale now starting at $54 and $60 on the day of the show. Premium selections are also available.
URL:https://theriverboston.com/events/lowell-summer-music-series-david-crosby-and-special-guest-chris-hillman/
LOCATION:Boarding House Park\, 40 French Street\, Lowell\, MA\, 01852\, United States
END:VEVENT
BEGIN:VEVENT
DTSTART;TZID=America/New_York:20180614T190000
DTEND;TZID=America/New_York:20180614T220000
DTSTAMP:20260420T170013
CREATED:20180621T210225Z
LAST-MODIFIED:20180621T210225Z
UID:90833-1529002800-1529013600@theriverboston.com
SUMMARY:David Crosby at Lowell Summer Music Series
DESCRIPTION:Join us to see David Crosby at Lowell Summer Music Series!\nLegendary David Crosby is kick-starting this year’s Lowell Summer Music Series on Thursday\, June 14th. \nTickets are on sale now\, as well as tickets for the whole series. \nThe River Roadies will be there listening to the tunes\, handing out prizes\, and giving away concert tickets! Be sure to stop by!
URL:https://theriverboston.com/events/david-crosby-at-lowell-summer-music-series/
LOCATION:Lowell Summer Music Series\, 40 French Street\, Lowell\, MA\, 01852\, United States
END:VEVENT
END:VCALENDAR