BEGIN:VCALENDAR
VERSION:2.0
PRODID:-//92.5 the River - ECPv5.16.3.1//NONSGML v1.0//EN
CALSCALE:GREGORIAN
METHOD:PUBLISH
X-WR-CALNAME:92.5 the River
X-ORIGINAL-URL:https://theriverboston.com
X-WR-CALDESC:Events for 92.5 the River
BEGIN:VTIMEZONE
TZID:America/New_York
BEGIN:DAYLIGHT
TZOFFSETFROM:-0500
TZOFFSETTO:-0400
TZNAME:EDT
DTSTART:20180311T070000
END:DAYLIGHT
BEGIN:STANDARD
TZOFFSETFROM:-0400
TZOFFSETTO:-0500
TZNAME:EST
DTSTART:20181104T060000
END:STANDARD
END:VTIMEZONE
BEGIN:VEVENT
DTSTART;TZID=America/New_York:20180616T093000
DTEND;TZID=America/New_York:20180616T110000
DTSTAMP:20260420T194855
CREATED:20180530T194207Z
LAST-MODIFIED:20180530T194243Z
UID:85967-1529141400-1529146800@theriverboston.com
SUMMARY:GM Roth Design Build Seminar
DESCRIPTION:Join us at the GM Roth Design Build Seminar!\nEnjoy coffee and donuts while you learn about all the Design Build Process from the professionals! \nCall (603) 880-3761 to reserve your spot.
URL:https://theriverboston.com/events/gm-roth-design-build-seminar/
LOCATION:GM Roth\, 12 Murphy Drive\, Unit G\, Nahua\, NH\, 03062\, United States
END:VEVENT
END:VCALENDAR