BEGIN:VCALENDAR
VERSION:2.0
PRODID:-//92.5 the River - ECPv5.16.3.1//NONSGML v1.0//EN
CALSCALE:GREGORIAN
METHOD:PUBLISH
X-WR-CALNAME:92.5 the River
X-ORIGINAL-URL:https://theriverboston.com
X-WR-CALDESC:Events for 92.5 the River
BEGIN:VTIMEZONE
TZID:America/New_York
BEGIN:DAYLIGHT
TZOFFSETFROM:-0500
TZOFFSETTO:-0400
TZNAME:EDT
DTSTART:20180311T070000
END:DAYLIGHT
BEGIN:STANDARD
TZOFFSETFROM:-0400
TZOFFSETTO:-0500
TZNAME:EST
DTSTART:20181104T060000
END:STANDARD
END:VTIMEZONE
BEGIN:VEVENT
DTSTART;TZID=America/New_York:20180708T190000
DTEND;TZID=America/New_York:20180708T230000
DTSTAMP:20260422T063055
CREATED:20180522T172211Z
LAST-MODIFIED:20180522T172211Z
UID:85641-1531076400-1531090800@theriverboston.com
SUMMARY:The River Presents I'm With Her at Prescott Park!
DESCRIPTION:The River Presents I’m With Her at Prescott Park!\nCome see I’m With Her on July 8th at 7:00 pm! This is a free show but you can reserve a table on the venue’s website. It is going to be a great show and we hope to see you there!
URL:https://theriverboston.com/events/the-river-presents-im-with-her-at-prescott-park/
LOCATION:Prescott Park\, 105 Marcy Street\, Portsmouth\, NH\, 03801\, United States
ORGANIZER;CN="Prescott%20Park":MAILTO:hello@prescottpark.org
END:VEVENT
END:VCALENDAR