BEGIN:VCALENDAR
VERSION:2.0
PRODID:-//92.5 the River - ECPv5.16.3.1//NONSGML v1.0//EN
CALSCALE:GREGORIAN
METHOD:PUBLISH
X-WR-CALNAME:92.5 the River
X-ORIGINAL-URL:https://theriverboston.com
X-WR-CALDESC:Events for 92.5 the River
BEGIN:VTIMEZONE
TZID:America/New_York
BEGIN:DAYLIGHT
TZOFFSETFROM:-0500
TZOFFSETTO:-0400
TZNAME:EDT
DTSTART:20180311T070000
END:DAYLIGHT
BEGIN:STANDARD
TZOFFSETFROM:-0400
TZOFFSETTO:-0500
TZNAME:EST
DTSTART:20181104T060000
END:STANDARD
END:VTIMEZONE
BEGIN:VEVENT
DTSTART;TZID=America/New_York:20180710T193000
DTEND;TZID=America/New_York:20180710T193000
DTSTAMP:20260422T093446
CREATED:20180516T154642Z
LAST-MODIFIED:20180516T170025Z
UID:85027-1531251000-1531251000@theriverboston.com
SUMMARY:PETER PAN @ Bill Hanney's North Shore Music Theatre
DESCRIPTION:Everybody has heard of Peter Pan. Now\, you can see The Tony© Award-winning musical\, PETER PAN\, live at Bill Hanney’s North Shore Music Theatre! Follow Peter and his mischievous fairy sidekick\, Tinkerbell\, as they visit the nursery of the Darling children late one night. With a sprinkle of pixie dust\, they begin a magical journey across the stars that none of them will ever forget. From ticking crocodiles\, to fierce warriors\, bungling pirates and the villainous Captain Hook himself\, this fun classic will delight all ages. READ MORE. \nPETER PAN will be running from July 10th until July 22nd! View all showtime and ticket information. You can also follow the venue on Instagram and Twitter!
URL:https://theriverboston.com/events/peter-pan-bill-hanneys-north-shore-music-theatre/
LOCATION:North Shore Music Theatre\, 62 Dunham Road\, Beverly\, MA\, 01915\, United States
END:VEVENT
END:VCALENDAR