BEGIN:VCALENDAR
VERSION:2.0
PRODID:-//92.5 the River - ECPv5.16.3.1//NONSGML v1.0//EN
CALSCALE:GREGORIAN
METHOD:PUBLISH
X-WR-CALNAME:92.5 the River
X-ORIGINAL-URL:https://theriverboston.com
X-WR-CALDESC:Events for 92.5 the River
BEGIN:VTIMEZONE
TZID:America/New_York
BEGIN:DAYLIGHT
TZOFFSETFROM:-0500
TZOFFSETTO:-0400
TZNAME:EDT
DTSTART:20180311T070000
END:DAYLIGHT
BEGIN:STANDARD
TZOFFSETFROM:-0400
TZOFFSETTO:-0500
TZNAME:EST
DTSTART:20181104T060000
END:STANDARD
END:VTIMEZONE
BEGIN:VEVENT
DTSTART;TZID=America/New_York:20180714T100000
DTEND;TZID=America/New_York:20180714T140000
DTSTAMP:20260422T152235
CREATED:20180404T181807Z
LAST-MODIFIED:20180404T210123Z
UID:81066-1531562400-1531576800@theriverboston.com
SUMMARY:Neponset RiverFest
DESCRIPTION:Neponset Riverfest 2018\nThe River Roadies will be at the Neponset Riverfest on Saturday July 14th! Come visit us and enjoy the festivities! There will be plenty to experience at the DCR Neponset II Park in Dorchester including food\, children’s activities\, canoeing and kayaking\, as well as music. \nThe Roadies will be there handing out prizes\, tickets\, and playing some tunes! \n  \nCheck out all the info about the event and be sure to stop by and say hi to the River Roadies!
URL:https://theriverboston.com/events/neponset-riverfest/
LOCATION:DCR Neponset II Park\, 76 Hill Top Street\, Boston\, MA\, 02124\, United States
ORGANIZER;CN="The%20Neponset%20River%20Watershed%20Association":MAILTO:staff@neponset.org
END:VEVENT
BEGIN:VEVENT
DTSTART;TZID=America/New_York:20180714T120000
DTEND;TZID=America/New_York:20180714T160000
DTSTAMP:20260422T152235
CREATED:20180618T170107Z
LAST-MODIFIED:20180618T170107Z
UID:90572-1531569600-1531584000@theriverboston.com
SUMMARY:New Hampshire Brewers Festival
DESCRIPTION:The New Hampshire Brewers Association is hosting the 5th Annual NH Brewers Festival on July 14th at Kiwanis Waterfront Park! \nVIP Session $60 12-1:00 pm \nGeneral Admission $40 1-4:00 pm \nMusic throughout the festival will be provided by 92.5 The River. The festival is going to be a great time and we hope to see you there!
URL:https://theriverboston.com/events/new-hampshire-brewers-festival/
LOCATION:Kiwanis Waterfront Park Concord\, NH\, 15 Loudon Rd\, Concord\, NH\, 03301\, United States
ORGANIZER;CN="Granite%20State%20Brewers%20Association":MAILTO:cjwhite@nhbrewers.org
END:VEVENT
END:VCALENDAR