BEGIN:VCALENDAR
VERSION:2.0
PRODID:-//92.5 the River - ECPv5.16.3.1//NONSGML v1.0//EN
CALSCALE:GREGORIAN
METHOD:PUBLISH
X-WR-CALNAME:92.5 the River
X-ORIGINAL-URL:https://theriverboston.com
X-WR-CALDESC:Events for 92.5 the River
BEGIN:VTIMEZONE
TZID:America/New_York
BEGIN:DAYLIGHT
TZOFFSETFROM:-0500
TZOFFSETTO:-0400
TZNAME:EDT
DTSTART:20180311T070000
END:DAYLIGHT
BEGIN:STANDARD
TZOFFSETFROM:-0400
TZOFFSETTO:-0500
TZNAME:EST
DTSTART:20181104T060000
END:STANDARD
END:VTIMEZONE
BEGIN:VEVENT
DTSTART;VALUE=DATE:20180719
DTEND;VALUE=DATE:20180723
DTSTAMP:20260423T023434
CREATED:20180712T165225Z
LAST-MODIFIED:20180712T165351Z
UID:98099-1531958400-1532303999@theriverboston.com
SUMMARY:Papa Wheelies Midsummer's Bike Sale
DESCRIPTION:A Midsummer’s Bike Sale \nJoin us at the Grand Opening of Papa Wheelies’ third store: Papa Wheelies in Natick\, Massachusetts. Papa Wheelies is celebrating with a midsummer’s sale at all THREE of their locations in Portsmouth\, New Hampshire\, Back Bay Boston and now Natick. \nThere will be a huge tent sale all weekend in the parking lot at the Natick store on Route 9. \nThe River Roadies will be there playing music and handing out prizes! See you there! \nSale is Thursday\, July 19 – Sunday\, July 22 \n\nAll In-Stock bicycles will be on sale\, with savings up to 50% off select bikes.\nUp to 75% OFF apparel\n50% OFF all Shimano and Mavic shoes\n50% OFF all sunglasses\nAnd other in-store specials all weekend long\n\nBikes from Giant\, Cannondale and Salsa at all three stores. Check out even more bikes from BMC\, Santa Cruz and Specialized in Tax-Free Portsmouth NH!
URL:https://theriverboston.com/events/papa-wheelies-midsummers-bike-sale/
LOCATION:Papa Wheelies Natick\, 1400 Worcester St\, Natick\, MA\, 01760\, United States
ORGANIZER;CN="Papa%20Wheelies":MAILTO:info@papa-wheelies.com
END:VEVENT
BEGIN:VEVENT
DTSTART;TZID=America/New_York:20180722T170000
DTEND;TZID=America/New_York:20180722T190000
DTSTAMP:20260423T023434
CREATED:20180621T144040Z
LAST-MODIFIED:20180621T144040Z
UID:90788-1532278800-1532286000@theriverboston.com
SUMMARY:Summer Concert Series – Playing Dead at Ellsworth McAfee Park
DESCRIPTION:Come see Playing Dead\, a Grateful Dead tribute band\,  July 22nd at Ellsworth McAfee Park! \nPlaying Dead is comprised of former members of Dark Star Orchestra\, Slipknot\, and Uncle John’s Band. Their set lists have a wide range of songs from the entire Grateful Dead catalog. Playing Dead recreates the atmosphere and feel of Grateful Dead shows. \nThe River Roadies will be there handing out prizes and giving away concert tickets so come stop by! \nIt’s going to be a great show and we hope to see you there!
URL:https://theriverboston.com/events/summer-concert-series-playing-dead-at-ellsworth-mcafee-park/
LOCATION:Ellsworth McAfee Park\, Rt 135/ South St.\, Northborough\, 01532\, United States
END:VEVENT
END:VCALENDAR