BEGIN:VCALENDAR
VERSION:2.0
PRODID:-//92.5 the River - ECPv5.16.3.1//NONSGML v1.0//EN
CALSCALE:GREGORIAN
METHOD:PUBLISH
X-WR-CALNAME:92.5 the River
X-ORIGINAL-URL:https://theriverboston.com
X-WR-CALDESC:Events for 92.5 the River
BEGIN:VTIMEZONE
TZID:America/New_York
BEGIN:DAYLIGHT
TZOFFSETFROM:-0500
TZOFFSETTO:-0400
TZNAME:EDT
DTSTART:20180311T070000
END:DAYLIGHT
BEGIN:STANDARD
TZOFFSETFROM:-0400
TZOFFSETTO:-0500
TZNAME:EST
DTSTART:20181104T060000
END:STANDARD
END:VTIMEZONE
BEGIN:VEVENT
DTSTART;TZID=America/New_York:20180803T190000
DTEND;TZID=America/New_York:20180803T230000
DTSTAMP:20260423T200749
CREATED:20180515T154019Z
LAST-MODIFIED:20180515T162213Z
UID:84685-1533322800-1533337200@theriverboston.com
SUMMARY:Lord Huron at Prescott Park Arts Festival
DESCRIPTION:Lord Huron At Prescott Park Arts Festival\nCome see Lord Huron at Prescott Park on August 3rd! Lord Huron has toured extensively in North America and Europe\, earning rave reviews and performing for sold-out crowds at some of the world’s most prestigious venues. The band has appeared at a wide range of music festivals including Lollapalooza\, Coachella\, Bonnaroo and Newport Folk Festival. \nIn addition\, the River Roadies will be at the event from 5pm – 7pm handing out prizes and giving away concert tickets! We hope to see you there!
URL:https://theriverboston.com/events/the-river-presents-lord-huron/
LOCATION:Prescott Park\, 105 Marcy Street\, Portsmouth\, NH\, 03801\, United States
ORGANIZER;CN="Prescott%20Park":MAILTO:hello@prescottpark.org
END:VEVENT
BEGIN:VEVENT
DTSTART;TZID=America/New_York:20180803T193000
DTEND;TZID=America/New_York:20180803T203000
DTSTAMP:20260423T200749
CREATED:20180403T143128Z
LAST-MODIFIED:20180403T143128Z
UID:80741-1533324600-1533328200@theriverboston.com
SUMMARY:The River Presents The Revivalists
DESCRIPTION:92.5 the River presents The Revivalists at the Lowell Summer Music Series!\nThe latest announcement is of The Revivalists\, who will come to Lowell on Friday\, Aug. 3\, for a show at 7:30 p.m. \nThe seven-piece band has a unique sound that melds a bayou sound with a jam-band vibe. The resulting work has been praised by Rolling Stone as one of “10 Bands You Need to Know” thanks to songs like “Monster\,” “Wish I Knew You” (which made it to number 84 on the Billboard Hot 100 pop singles chart)\, “Keep Going” and “Criminal.” \nThrough relentless touring and great word-of-mouth publicity\, the Revivalists have steadily built their fan base\, and their blend of swing and Southern roots music is expected to be a crowd-pleaser here in Lowell. \nTickets\, which go on sale Friday\, April 6\, at 9 a.m.\, at http://www.lowellsummermusic.org\, are $45 in advance and $145 for premium seating. \nYou can win your tickets here before you buy!
URL:https://theriverboston.com/events/the-river-presents-the-revivalists/
LOCATION:Boarding House Park\, 40 French Street\, Lowell\, MA\, 01852\, United States
END:VEVENT
BEGIN:VEVENT
DTSTART;TZID=America/New_York:20180803T200000
DTEND;TZID=America/New_York:20180803T230000
DTSTAMP:20260423T200749
CREATED:20180724T152732Z
LAST-MODIFIED:20180724T153055Z
UID:108712-1533326400-1533337200@theriverboston.com
SUMMARY:Olivia Chaney Live at the Loft
DESCRIPTION:Live at The Loft: Olivia Chaney\nOlivia Chaney will be performing at the Music Hall Loft in Portsmouth\, New Hampshire on Friday\, August 3! \nThe 2018 Grammy nominee\, who has performed with musicians such as Robert Plant\, The Decemberists\, and more\, will hit the stage at 8pm for this intimate performance. It’s going to be a great show!
URL:https://theriverboston.com/events/olivia-chaney-live-at-the-loft/
LOCATION:The Music Hall\, 28 Chestnut Street\, Portsmouth\, NH\, 03801\, United States
END:VEVENT
END:VCALENDAR