BEGIN:VCALENDAR
VERSION:2.0
PRODID:-//92.5 the River - ECPv5.16.3.1//NONSGML v1.0//EN
CALSCALE:GREGORIAN
METHOD:PUBLISH
X-WR-CALNAME:92.5 the River
X-ORIGINAL-URL:https://theriverboston.com
X-WR-CALDESC:Events for 92.5 the River
BEGIN:VTIMEZONE
TZID:America/New_York
BEGIN:DAYLIGHT
TZOFFSETFROM:-0500
TZOFFSETTO:-0400
TZNAME:EDT
DTSTART:20180311T070000
END:DAYLIGHT
BEGIN:STANDARD
TZOFFSETFROM:-0400
TZOFFSETTO:-0500
TZNAME:EST
DTSTART:20181104T060000
END:STANDARD
END:VTIMEZONE
BEGIN:VEVENT
DTSTART;TZID=America/New_York:20180804T100000
DTEND;TZID=America/New_York:20180812T170000
DTSTAMP:20260424T030436
CREATED:20180709T154202Z
LAST-MODIFIED:20180709T154202Z
UID:97359-1533376800-1534093200@theriverboston.com
SUMMARY:Annual League of NH Craftsmen's Fair
DESCRIPTION:America’s oldest craft fair\, the League of NH Craftsmen’s Fair is one of the finest\, most prestigious craft events in the USA today. This annual nine-day event showcases the work of more than 350 craftspeople’s items\, made by hand in New Hampshire. It’s the place to see an incredible variety of beautiful\, one-of-a-kind craft items that are functional\, decorative and built to last. The fair is held at the Mount Sunapee Resort in the beautiful Dartmouth/Sunapee region of New Hampshire. The Annual Craftsmen’s Fair is a fun way to explore the fascinating world of fine craftmaking\, with activities for all ages. Meet and talk to the craftsmen\, learn about their techniques\, and purchase from them. Find creative and practical gifts at more than 200 craft booths and The Shop at the Fair. Adults and children can sign up for workshops — including basket weaving\, tools for kids and glassblowing. Or\, watch daily demonstrations of glassblowing\, woodcarving\, blacksmithing\, furniture building and more. \n  \n\n\n\nFEATURED BAND PERFORMANCE:  Band/Musician\nPerformance Date\n\n\nThe Ross Livermore Band    https://www.rosslivermore.com/\n8/4/2018\n\n\nRockspring   https://www.facebook.com/Rockspring.Music/\n8/5/2018\n\n\nHigh Range   http://www.highrangeband.com/\n8/6/2018\n\n\nSusie Burke & David Surette  http://www.burkesurette.com/\n8/7/2018\n\n\nCormac McCarthy   http://www.cormac-mccarthy.com/\n8/8/2018\n\n\nJerry Short & Rick Watson   http://www.rickwatson.net/SHORTBROS.html\n8/9/2018\n\n\nGretchen and the Pickpockets   http://www.gretchenandthepickpockets.com/\n8/10/2018\n\n\nLula Wiles   http://www.lulawiles.com/\n8/11/2018\n\n\nHarsh Armadillo https://www.facebook.com/HarshArmadillo/\n8/12/2018
URL:https://theriverboston.com/events/annual-league-of-nh-craftsmens-fair/
LOCATION:Mount Sunapee Resort\, 1398 Rte 103\, Newbury\, 03255\, United States
END:VEVENT
BEGIN:VEVENT
DTSTART;TZID=America/New_York:20180808T190000
DTEND;TZID=America/New_York:20180808T230000
DTSTAMP:20260424T030436
CREATED:20180522T175703Z
LAST-MODIFIED:20180522T210520Z
UID:85648-1533754800-1533769200@theriverboston.com
SUMMARY:Hayes Carll at Prescott Park Arts Festival
DESCRIPTION:Hayes Carll at Prescott Park Arts Festival\nTexas native Hayes Carll has written rousers (“One Bed\, Two Girls\, Three Bottles of Wine”) and rockers (“Stomp and Holler”). He had a swaying\, reckless\, unpolished way of writing\, but his latest record – Lovers and Leavers – strips back the layers to reveal the quiet perfection of ‘normal’ life after the doors to the last honky-tonk on your too-long tour close. It revels in time shared in the company of those you love and sometimes leave\, like the simple enchantment of watching your young son master a new card trick. \nCome see Hayes Carll on August 8th at 7:00 pm! This is a free show but you can reserve a table on the venue’s website. It is going to be a great show and we hope to see you there!
URL:https://theriverboston.com/events/the-river-presents-hayes-carll-at-prescott-park/
LOCATION:Prescott Park\, 105 Marcy Street\, Portsmouth\, NH\, 03801\, United States
ORGANIZER;CN="Prescott%20Park":MAILTO:hello@prescottpark.org
END:VEVENT
END:VCALENDAR