BEGIN:VCALENDAR
VERSION:2.0
PRODID:-//92.5 the River - ECPv5.16.3.1//NONSGML v1.0//EN
CALSCALE:GREGORIAN
METHOD:PUBLISH
X-WR-CALNAME:92.5 the River
X-ORIGINAL-URL:https://theriverboston.com
X-WR-CALDESC:Events for 92.5 the River
BEGIN:VTIMEZONE
TZID:America/New_York
BEGIN:DAYLIGHT
TZOFFSETFROM:-0500
TZOFFSETTO:-0400
TZNAME:EDT
DTSTART:20180311T070000
END:DAYLIGHT
BEGIN:STANDARD
TZOFFSETFROM:-0400
TZOFFSETTO:-0500
TZNAME:EST
DTSTART:20181104T060000
END:STANDARD
END:VTIMEZONE
BEGIN:VEVENT
DTSTART;TZID=America/New_York:20180804T100000
DTEND;TZID=America/New_York:20180812T170000
DTSTAMP:20260424T062945
CREATED:20180709T154202Z
LAST-MODIFIED:20180709T154202Z
UID:97359-1533376800-1534093200@theriverboston.com
SUMMARY:Annual League of NH Craftsmen's Fair
DESCRIPTION:America’s oldest craft fair\, the League of NH Craftsmen’s Fair is one of the finest\, most prestigious craft events in the USA today. This annual nine-day event showcases the work of more than 350 craftspeople’s items\, made by hand in New Hampshire. It’s the place to see an incredible variety of beautiful\, one-of-a-kind craft items that are functional\, decorative and built to last. The fair is held at the Mount Sunapee Resort in the beautiful Dartmouth/Sunapee region of New Hampshire. The Annual Craftsmen’s Fair is a fun way to explore the fascinating world of fine craftmaking\, with activities for all ages. Meet and talk to the craftsmen\, learn about their techniques\, and purchase from them. Find creative and practical gifts at more than 200 craft booths and The Shop at the Fair. Adults and children can sign up for workshops — including basket weaving\, tools for kids and glassblowing. Or\, watch daily demonstrations of glassblowing\, woodcarving\, blacksmithing\, furniture building and more. \n  \n\n\n\nFEATURED BAND PERFORMANCE:  Band/Musician\nPerformance Date\n\n\nThe Ross Livermore Band    https://www.rosslivermore.com/\n8/4/2018\n\n\nRockspring   https://www.facebook.com/Rockspring.Music/\n8/5/2018\n\n\nHigh Range   http://www.highrangeband.com/\n8/6/2018\n\n\nSusie Burke & David Surette  http://www.burkesurette.com/\n8/7/2018\n\n\nCormac McCarthy   http://www.cormac-mccarthy.com/\n8/8/2018\n\n\nJerry Short & Rick Watson   http://www.rickwatson.net/SHORTBROS.html\n8/9/2018\n\n\nGretchen and the Pickpockets   http://www.gretchenandthepickpockets.com/\n8/10/2018\n\n\nLula Wiles   http://www.lulawiles.com/\n8/11/2018\n\n\nHarsh Armadillo https://www.facebook.com/HarshArmadillo/\n8/12/2018
URL:https://theriverboston.com/events/annual-league-of-nh-craftsmens-fair/
LOCATION:Mount Sunapee Resort\, 1398 Rte 103\, Newbury\, 03255\, United States
END:VEVENT
BEGIN:VEVENT
DTSTART;TZID=America/New_York:20180810T190000
DTEND;TZID=America/New_York:20180810T210000
DTSTAMP:20260424T062945
CREATED:20180806T150000Z
LAST-MODIFIED:20180806T150000Z
UID:111671-1533927600-1533934800@theriverboston.com
SUMMARY:Bud Light Bar Night
DESCRIPTION:Come hangout at Surfside in Salisbury for some fun and drinks.  The River Roadies will be there from 7-9 handing out some SWAG\, playing great music\, and giving listeners a chance to win VIP tickets to this year’s Riverfront Music Festival \n 
URL:https://theriverboston.com/events/bud-light-bar-night/
LOCATION:Surfside\, 25 Broadway\, Salisbury\, MA\, 01952\, United States
END:VEVENT
BEGIN:VEVENT
DTSTART;TZID=America/New_York:20180810T193000
DTEND;TZID=America/New_York:20180810T193000
DTSTAMP:20260424T062945
CREATED:20180516T155250Z
LAST-MODIFIED:20180521T204519Z
UID:85029-1533929400-1533929400@theriverboston.com
SUMMARY:MAMA MIA! @ Bill Hanney's North Shore Music Theatre
DESCRIPTION:Here we go again! The hit musical MAMA MIA! is coming to the North Shore Music Theatre! Sophie\, a 20-year-old bride-to-be\, is on the search for her father. After reading her mother’s diary\, she discovers there are three potential suitors. Unbeknownst to her mother\, Donna\, Sophie invites each of them in hopes of having one of them walk her down the aisle. As the big day draws near\, surprises abound with old flames and old friends. Loaded to the brim with hit ABBA songs\, you won’t be able to help but sing along to this musical! READ MORE. \nMAMA MIA! will be running from August 7th to the 26th! View all showtimes and buy tickets. You can also follow the venue on Instagram and Twitter!
URL:https://theriverboston.com/events/mama-mia-bill-hanneys-north-shore-music-theatre/
LOCATION:North Shore Music Theatre\, 62 Dunham Road\, Beverly\, MA\, 01915\, United States
END:VEVENT
BEGIN:VEVENT
DTSTART;TZID=America/New_York:20180810T200000
DTEND;TZID=America/New_York:20180810T200000
DTSTAMP:20260424T062945
CREATED:20180724T155033Z
LAST-MODIFIED:20180724T155033Z
UID:108724-1533931200-1533931200@theriverboston.com
SUMMARY:Kelley Hunt Live at The Loft
DESCRIPTION:Kelley Hunt Live at the Loft\nRiverfest alum Kelley Hunt will be at The Music Hall Loft on Friday\, August 10 at 8pm! \nHunt offers a sound that surpasses the limitations of any genre\, allowing her to perform at a variety of pop\, folk\, and roots music festivals. It’s going to be a great show!
URL:https://theriverboston.com/events/kelley-hunt-live-at-the-loft/
LOCATION:The Music Hall\, 28 Chestnut Street\, Portsmouth\, NH\, 03801\, United States
END:VEVENT
END:VCALENDAR