BEGIN:VCALENDAR
VERSION:2.0
PRODID:-//92.5 the River - ECPv5.16.3.1//NONSGML v1.0//EN
CALSCALE:GREGORIAN
METHOD:PUBLISH
X-WR-CALNAME:92.5 the River
X-ORIGINAL-URL:https://theriverboston.com
X-WR-CALDESC:Events for 92.5 the River
BEGIN:VTIMEZONE
TZID:America/New_York
BEGIN:DAYLIGHT
TZOFFSETFROM:-0500
TZOFFSETTO:-0400
TZNAME:EDT
DTSTART:20180311T070000
END:DAYLIGHT
BEGIN:STANDARD
TZOFFSETFROM:-0400
TZOFFSETTO:-0500
TZNAME:EST
DTSTART:20181104T060000
END:STANDARD
END:VTIMEZONE
BEGIN:VEVENT
DTSTART;TZID=America/New_York:20180804T100000
DTEND;TZID=America/New_York:20180812T170000
DTSTAMP:20260424T081012
CREATED:20180709T154202Z
LAST-MODIFIED:20180709T154202Z
UID:97359-1533376800-1534093200@theriverboston.com
SUMMARY:Annual League of NH Craftsmen's Fair
DESCRIPTION:America’s oldest craft fair\, the League of NH Craftsmen’s Fair is one of the finest\, most prestigious craft events in the USA today. This annual nine-day event showcases the work of more than 350 craftspeople’s items\, made by hand in New Hampshire. It’s the place to see an incredible variety of beautiful\, one-of-a-kind craft items that are functional\, decorative and built to last. The fair is held at the Mount Sunapee Resort in the beautiful Dartmouth/Sunapee region of New Hampshire. The Annual Craftsmen’s Fair is a fun way to explore the fascinating world of fine craftmaking\, with activities for all ages. Meet and talk to the craftsmen\, learn about their techniques\, and purchase from them. Find creative and practical gifts at more than 200 craft booths and The Shop at the Fair. Adults and children can sign up for workshops — including basket weaving\, tools for kids and glassblowing. Or\, watch daily demonstrations of glassblowing\, woodcarving\, blacksmithing\, furniture building and more. \n  \n\n\n\nFEATURED BAND PERFORMANCE:  Band/Musician\nPerformance Date\n\n\nThe Ross Livermore Band    https://www.rosslivermore.com/\n8/4/2018\n\n\nRockspring   https://www.facebook.com/Rockspring.Music/\n8/5/2018\n\n\nHigh Range   http://www.highrangeband.com/\n8/6/2018\n\n\nSusie Burke & David Surette  http://www.burkesurette.com/\n8/7/2018\n\n\nCormac McCarthy   http://www.cormac-mccarthy.com/\n8/8/2018\n\n\nJerry Short & Rick Watson   http://www.rickwatson.net/SHORTBROS.html\n8/9/2018\n\n\nGretchen and the Pickpockets   http://www.gretchenandthepickpockets.com/\n8/10/2018\n\n\nLula Wiles   http://www.lulawiles.com/\n8/11/2018\n\n\nHarsh Armadillo https://www.facebook.com/HarshArmadillo/\n8/12/2018
URL:https://theriverboston.com/events/annual-league-of-nh-craftsmens-fair/
LOCATION:Mount Sunapee Resort\, 1398 Rte 103\, Newbury\, 03255\, United States
END:VEVENT
BEGIN:VEVENT
DTSTART;TZID=America/New_York:20180811T110000
DTEND;TZID=America/New_York:20180811T160000
DTSTAMP:20260424T081012
CREATED:20180808T204722Z
LAST-MODIFIED:20180808T204746Z
UID:111992-1533985200-1534003200@theriverboston.com
SUMMARY:Budweiser Backyard Event
DESCRIPTION:Budweiser’s Backyard\nJoin us at the Anheuser-Busch Brewery in Merrimack\, NH on Saturday\, August 11th for Budweiser’s Backyard event! They’ll be providing the music and the beer\, and the River Roadies will be there from noon – 2pm with some awesome prizes\, and a chance to win tickets to Counting Crows at the XFINITY Center on August 18th! Be sure to stop by and say hi!
URL:https://theriverboston.com/events/budweiser-backyard-event/
LOCATION:Anheuser-Busch Brewery\, 221 Daniel Webster Highway\, Merrimack\, NH\, 03054\, United States
END:VEVENT
BEGIN:VEVENT
DTSTART;TZID=America/New_York:20180811T120000
DTEND;TZID=America/New_York:20180811T180000
DTSTAMP:20260424T081012
CREATED:20180718T142147Z
LAST-MODIFIED:20180718T142147Z
UID:108001-1533988800-1534010400@theriverboston.com
SUMMARY:Gather's Second Annual Gatherfest!
DESCRIPTION:Come to the second annual Gatherfest at Applecrest Farms!\nLet’s gather for a hunger free community on Saturday\, August 11th from 12-6pm.\nThis community event features live music\, delicious food and drinks by Applecrest\, a variety of local food trucks\, and a fantastic Kid Zone.\nBring the whole family and enjoy a day filled with food\, music and entertainment.\nAll proceeds from this event benefit Gather. \nLive music begins at 1pm:\nSoggy Po’ Boys\nHayley Jane and the Primates\nRyan Montbleau \nTickets are $25 online and $30 at the door. Children 4-12 are $5 and 3 & under are free!
URL:https://theriverboston.com/events/gathers-second-annual-gatherfest/
LOCATION:Applecrest Farms\, 133 Exeter Road\, Hampton Falls\, NH\, 03844\, United States
END:VEVENT
BEGIN:VEVENT
DTSTART;TZID=America/New_York:20180811T190000
DTEND;TZID=America/New_York:20180811T230000
DTSTAMP:20260424T081012
CREATED:20180515T155305Z
LAST-MODIFIED:20180515T161841Z
UID:84695-1534014000-1534028400@theriverboston.com
SUMMARY:Band Of Horses at Prescott Park Arts Festival
DESCRIPTION:Band Of Horses at Prescott Park Arts Festival\nBand Of Horses is coming to Prescott Park on August 11th! Formed and led by singer and songwriter Ben Bridwell\, this South Carolina-based band have given us many much-loved singles\, including “No One’s Gonna Love You” and “The Funeral.” \nIn addition\, the River Roadies will be there from 5pm to 7pm handing out prizes\, and giving away concert ticekts. Its going to be a great show and we hope to see you there!
URL:https://theriverboston.com/events/the-river-presents-band-of-horses/
LOCATION:Prescott Park\, 105 Marcy Street\, Portsmouth\, NH\, 03801\, United States
ORGANIZER;CN="Prescott%20Park":MAILTO:hello@prescottpark.org
END:VEVENT
END:VCALENDAR