BEGIN:VCALENDAR
VERSION:2.0
PRODID:-//92.5 the River - ECPv5.16.3.1//NONSGML v1.0//EN
CALSCALE:GREGORIAN
METHOD:PUBLISH
X-WR-CALNAME:92.5 the River
X-ORIGINAL-URL:https://theriverboston.com
X-WR-CALDESC:Events for 92.5 the River
BEGIN:VTIMEZONE
TZID:America/New_York
BEGIN:DAYLIGHT
TZOFFSETFROM:-0500
TZOFFSETTO:-0400
TZNAME:EDT
DTSTART:20180311T070000
END:DAYLIGHT
BEGIN:STANDARD
TZOFFSETFROM:-0400
TZOFFSETTO:-0500
TZNAME:EST
DTSTART:20181104T060000
END:STANDARD
END:VTIMEZONE
BEGIN:VEVENT
DTSTART;TZID=America/New_York:20180816T170000
DTEND;TZID=America/New_York:20180816T190000
DTSTAMP:20260424T151755
CREATED:20180731T155634Z
LAST-MODIFIED:20180803T203615Z
UID:110622-1534438800-1534446000@theriverboston.com
SUMMARY:Bud Light Bar Night @Michael's Harborside
DESCRIPTION:Bud Light Bar Night @ Michael’s Harborside\nJoin the River Roadies and Bud Light as we get ready for this summer’s best free outdoor concert: Riverfront Music Festival! The River Roadies will be there handing out VIP passes to the Riverfront Music Festival at Michael’s Harborside.
URL:https://theriverboston.com/events/bud-light-bar-night-michaels-harborside/
LOCATION:Michael’s Harborside\, 1 Tournament Wharf\, Newburyport\, MA\, United States
ORGANIZER;CN="92.5%20the%20River":MAILTO:promotions@wxrv.com
END:VEVENT
BEGIN:VEVENT
DTSTART;TZID=America/New_York:20180816T190000
DTEND;TZID=America/New_York:20180816T230000
DTSTAMP:20260424T151755
CREATED:20180523T133949Z
LAST-MODIFIED:20180717T205955Z
UID:85704-1534446000-1534460400@theriverboston.com
SUMMARY:Mavis Staples At Prescott Park Arts Festival
DESCRIPTION:Mavis Staples is coming to the Prescott Park Arts Festival\nCome see Mavis Staples at Prescott Park on August 16th! This is a free concert so no tickets are needed but you can rent a blanket and/or table. \nThe show starts at 7:00 pm and we hope to see you there!
URL:https://theriverboston.com/events/mavis-staples-at-prescott-park/
LOCATION:Prescott Park\, 105 Marcy Street\, Portsmouth\, NH\, 03801\, United States
ORGANIZER;CN="Prescott%20Park":MAILTO:hello@prescottpark.org
END:VEVENT
BEGIN:VEVENT
DTSTART;TZID=America/New_York:20180816T190000
DTEND;TZID=America/New_York:20180816T210000
DTSTAMP:20260424T151755
CREATED:20180803T193547Z
LAST-MODIFIED:20180803T193805Z
UID:111479-1534446000-1534453200@theriverboston.com
SUMMARY:Gate City Brewfest Pre-Party
DESCRIPTION:Gate City Brewfest Pre-Party at The Flight Center in Nashua\,  NH\nJoin the River Roadies and Bellavance Beverage on Thursday\, August 16\, at The Flight Center in Nashua\, NH! It’s your final chance to purchase tickets to Gate City Brewfest\, which is at the historic Holman Stadium on Saturday\, August 18. \n 
URL:https://theriverboston.com/events/gate-city-brewfest-pre-party/
LOCATION:The Flight Center\, 97 Main Street\, Nashua\, NH\, 03060\, United States
ORGANIZER;CN="92.5%20the%20River":MAILTO:promotions@wxrv.com
END:VEVENT
END:VCALENDAR