BEGIN:VCALENDAR
VERSION:2.0
PRODID:-//92.5 the River - ECPv5.16.3.1//NONSGML v1.0//EN
CALSCALE:GREGORIAN
METHOD:PUBLISH
X-WR-CALNAME:92.5 the River
X-ORIGINAL-URL:https://theriverboston.com
X-WR-CALDESC:Events for 92.5 the River
BEGIN:VTIMEZONE
TZID:America/New_York
BEGIN:DAYLIGHT
TZOFFSETFROM:-0500
TZOFFSETTO:-0400
TZNAME:EDT
DTSTART:20180311T070000
END:DAYLIGHT
BEGIN:STANDARD
TZOFFSETFROM:-0400
TZOFFSETTO:-0500
TZNAME:EST
DTSTART:20181104T060000
END:STANDARD
END:VTIMEZONE
BEGIN:VEVENT
DTSTART;TZID=America/New_York:20180830T170000
DTEND;TZID=America/New_York:20180830T190000
DTSTAMP:20260425T105106
CREATED:20180809T144123Z
LAST-MODIFIED:20180809T144123Z
UID:112082-1535648400-1535655600@theriverboston.com
SUMMARY:Bud Light Bar Night
DESCRIPTION:Join the River and Bud Light as we get ready for the summer’s best free outdoor concert – the 17th Annual Riverfront Music Festival! \nThe River Roadies will be at the Sea Level Oyester Bar from 5-7pm. They will be giving you the chance to win VIP passes to the festival\, as well as other awesome prizes. Must be 21 or older to enter. \nBrought to you by Bud Light – Famous Among Friends!
URL:https://theriverboston.com/events/bud-light-bar-night-2/
LOCATION:Sea Level Oyster Bar\, 1 Market Square\, Newburyport\, MA\, 01950\, United States
ORGANIZER;CN="92.5%20the%20River":MAILTO:promotions@wxrv.com
END:VEVENT
BEGIN:VEVENT
DTSTART;TZID=America/New_York:20180830T193000
DTEND;TZID=America/New_York:20180830T213000
DTSTAMP:20260425T105106
CREATED:20180809T150437Z
LAST-MODIFIED:20180809T150437Z
UID:112084-1535657400-1535664600@theriverboston.com
SUMMARY:Bud Light Bar Night
DESCRIPTION:Join the River and Bud Light as we get ready for this summer’s best free outdoor concert – the 17th Annual Riverfront Music Festival! \nRiver Roadies will be at Brick & Ash in Newburyport from 7:30-9:30pm giving you a chance to win VIP passes to the festival\, as well as some other great prizes! Must be 21 or older to enter. \n  \nBrought to you by Bud Light – Famous Among Friends!
URL:https://theriverboston.com/events/bud-light-bar-night-3/
LOCATION:Brick and Ash\, 10 Center Street\, Newburyport\, NH\, 01950\, United States
ORGANIZER;CN="92.5%20the%20River":MAILTO:promotions@wxrv.com
END:VEVENT
END:VCALENDAR