BEGIN:VCALENDAR
VERSION:2.0
PRODID:-//92.5 the River - ECPv5.16.3.1//NONSGML v1.0//EN
CALSCALE:GREGORIAN
METHOD:PUBLISH
X-WR-CALNAME:92.5 the River
X-ORIGINAL-URL:https://theriverboston.com
X-WR-CALDESC:Events for 92.5 the River
BEGIN:VTIMEZONE
TZID:America/New_York
BEGIN:DAYLIGHT
TZOFFSETFROM:-0500
TZOFFSETTO:-0400
TZNAME:EDT
DTSTART:20180311T070000
END:DAYLIGHT
BEGIN:STANDARD
TZOFFSETFROM:-0400
TZOFFSETTO:-0500
TZNAME:EST
DTSTART:20181104T060000
END:STANDARD
END:VTIMEZONE
BEGIN:VEVENT
DTSTART;TZID=America/New_York:20180913T140000
DTEND;TZID=America/New_York:20180913T180000
DTSTAMP:20260424T184857
CREATED:20180910T162135Z
LAST-MODIFIED:20180910T162205Z
UID:199680-1536847200-1536861600@theriverboston.com
SUMMARY:Amesbury Job Fair
DESCRIPTION:Are you an experienced manufacturing worker looking for a better company? Are you looking for a change from your current job? Want to work for a growing global company? Well\, Munters is searching for personnel on ALL shifts! \nThe Munters Corporation will be conducting open interviews on September 13\, 2018\, from 2-6pm at 79 Monroe Street in Amesbury\, MA. Stop by to see what Munters have to offer!
URL:https://theriverboston.com/events/amesbury-job-fair/
LOCATION:Munters Corporation\, 79 Monroe St\, Amesbury\, MA\, 01913\, United States
END:VEVENT
BEGIN:VEVENT
DTSTART;TZID=America/New_York:20180913T150000
DTEND;TZID=America/New_York:20180913T220000
DTSTAMP:20260424T184857
CREATED:20180910T161343Z
LAST-MODIFIED:20180910T162401Z
UID:199673-1536850800-1536876000@theriverboston.com
SUMMARY:The Seacoast Extreme Country Fair
DESCRIPTION:Hold on tight for the first annual Seacoast Country Fair\, the newest and most EXTREME fair to ever hit New England! The excitement begins September 13th at the premier New England Dragway in Epping\, NH and runs through Sunday September 16th! Tickets and complete schedule available now!
URL:https://theriverboston.com/events/the-seacoast-extreme-country-fair/
LOCATION:New England Dragway\, 280 Exeter Rd\, Epping\, NH\, 03042\, United States
ORGANIZER;CN="Seacoast%20Fairs":MAILTO:SeacoastCountryFair@gmail.com
END:VEVENT
BEGIN:VEVENT
DTSTART;TZID=America/New_York:20180913T193000
DTEND;TZID=America/New_York:20180913T193000
DTSTAMP:20260424T184857
CREATED:20180724T160957Z
LAST-MODIFIED:20180724T160957Z
UID:108750-1536867000-1536867000@theriverboston.com
SUMMARY:Canzoniere Greacanico Salentino Live at The Loft
DESCRIPTION:Canzoniere Greacanico Salentino live at The Loft\nCanzoniere Greacanicao Salentino are coming to the Music Hall Loft on Thursday\, September 13 at 7:30pm! Tickets for the 7-piece Italian band’s performance are available now. It’s going to be a great show!
URL:https://theriverboston.com/events/canzoniere-greacanico-salentino-live-at-the-loft/
LOCATION:The Music Hall\, 28 Chestnut Street\, Portsmouth\, NH\, 03801\, United States
END:VEVENT
END:VCALENDAR