BEGIN:VCALENDAR
VERSION:2.0
PRODID:-//92.5 the River - ECPv5.16.3.1//NONSGML v1.0//EN
CALSCALE:GREGORIAN
METHOD:PUBLISH
X-WR-CALNAME:92.5 the River
X-ORIGINAL-URL:https://theriverboston.com
X-WR-CALDESC:Events for 92.5 the River
BEGIN:VTIMEZONE
TZID:America/New_York
BEGIN:DAYLIGHT
TZOFFSETFROM:-0500
TZOFFSETTO:-0400
TZNAME:EDT
DTSTART:20180311T070000
END:DAYLIGHT
BEGIN:STANDARD
TZOFFSETFROM:-0400
TZOFFSETTO:-0500
TZNAME:EST
DTSTART:20181104T060000
END:STANDARD
END:VTIMEZONE
BEGIN:VEVENT
DTSTART;TZID=America/New_York:20181001T183000
DTEND;TZID=America/New_York:20181001T193000
DTSTAMP:20260425T151255
CREATED:20180924T145753Z
LAST-MODIFIED:20180924T145753Z
UID:201114-1538418600-1538422200@theriverboston.com
SUMMARY:Matt Maeson @ City Winery Boston
DESCRIPTION:Matt Maeson at City Winery Boston\nWe’re taking Matt Maeson on the road with us and doing a special performance at City Winery Boston on Monday\, October 1st! He’ll be performing a special set of songs for a group of lucky River listeners and then taking photos with everyone afterwards. Don’t miss out and enter to win tickets before Friday\, 9/27 at noon!
URL:https://theriverboston.com/events/matt-maeson-city-winery-boston/
LOCATION:City Winery Boston\, 80 Beverly Street at One Canal\, Boston\, MA\, 02114\, United States
ORGANIZER;CN="92.5%20the%20River":MAILTO:promotions@wxrv.com
END:VEVENT
END:VCALENDAR