BEGIN:VCALENDAR
VERSION:2.0
PRODID:-//92.5 the River - ECPv5.16.3.1//NONSGML v1.0//EN
CALSCALE:GREGORIAN
METHOD:PUBLISH
X-WR-CALNAME:92.5 the River
X-ORIGINAL-URL:https://theriverboston.com
X-WR-CALDESC:Events for 92.5 the River
BEGIN:VTIMEZONE
TZID:America/New_York
BEGIN:DAYLIGHT
TZOFFSETFROM:-0500
TZOFFSETTO:-0400
TZNAME:EDT
DTSTART:20180311T070000
END:DAYLIGHT
BEGIN:STANDARD
TZOFFSETFROM:-0400
TZOFFSETTO:-0500
TZNAME:EST
DTSTART:20181104T060000
END:STANDARD
END:VTIMEZONE
BEGIN:VEVENT
DTSTART;TZID=America/New_York:20181006T090000
DTEND;TZID=America/New_York:20181008T150000
DTSTAMP:20260425T232953
CREATED:20180928T181044Z
LAST-MODIFIED:20180928T181130Z
UID:201551-1538816400-1539010800@theriverboston.com
SUMMARY:Fall Foliage Celebration at Waterville Valley Resort
DESCRIPTION:Join us at the Fall Foliage Celebration at Waterville Valley Resort!\nTo complement the brilliant fall foliage\, join us for a weekend of family fun\, including free outdoor concerts\, tent sales\, ski swap\, 5K road race\, 1.6 K fun run\, 10-mile trail race and additional activities such as kid’s games\, pumpkin painting\, and more! REGISTER for the road race. \nPlus learn more about Phase II and all of our new winter developments from our Operations Crew\, pick up your pass\, and join in the festivities as we celebrate a successful summer. Time to gear up for winter!
URL:https://theriverboston.com/events/fall-foliage-celebration-at-waterville-valley-resort/
END:VEVENT
BEGIN:VEVENT
DTSTART;TZID=America/New_York:20181006T110000
DTEND;TZID=America/New_York:20181006T160000
DTSTAMP:20260425T232953
CREATED:20180619T185707Z
LAST-MODIFIED:20180621T205021Z
UID:90704-1538823600-1538841600@theriverboston.com
SUMMARY:7th Annual Powder Keg Beer & Chili Festival!
DESCRIPTION:Join us at the 7th Annual Powder Keg Beer & Chili Festival!\nThe event takes place at Swasey Parkway\, Exeter\, NH on Saturday\, October 6th from 11:00 am to 4:00 pm! \nTickets are available for purchase. \nThe River Roadies will be there handing out prizes and giving away tickets\, so be sure to stop by!!
URL:https://theriverboston.com/events/seventh-annual-powder-keg-beer-chili-festival/
LOCATION:Swasey Parkway\, Swasey Parkway\, Exeter\, NH\, 03833\, United States
END:VEVENT
BEGIN:VEVENT
DTSTART;TZID=America/New_York:20181006T160000
DTEND;TZID=America/New_York:20181006T230000
DTSTAMP:20260425T232953
CREATED:20180917T175013Z
LAST-MODIFIED:20180917T175236Z
UID:200697-1538841600-1538866800@theriverboston.com
SUMMARY:Harvest Moon Music Festival
DESCRIPTION:Join us at the 2018 Harvest Moon Music Festival!\n2018 Lineup:\nBLISS \nTrafton \nTruffle \nThe Peacheaters \n  \nTickets are on sale now. All proceeds go to benefit the Cross Roads House in Portsmouth\, NH.
URL:https://theriverboston.com/events/harvest-moon-music-festival-2/
LOCATION:The Stone Church\, 5 Granite Street\, Newmarket\, NH\, 03857\, United States
END:VEVENT
END:VCALENDAR