BEGIN:VCALENDAR
VERSION:2.0
PRODID:-//92.5 the River - ECPv5.16.3.1//NONSGML v1.0//EN
CALSCALE:GREGORIAN
METHOD:PUBLISH
X-WR-CALNAME:92.5 the River
X-ORIGINAL-URL:https://theriverboston.com
X-WR-CALDESC:Events for 92.5 the River
BEGIN:VTIMEZONE
TZID:America/New_York
BEGIN:DAYLIGHT
TZOFFSETFROM:-0500
TZOFFSETTO:-0400
TZNAME:EDT
DTSTART:20190310T070000
END:DAYLIGHT
BEGIN:STANDARD
TZOFFSETFROM:-0400
TZOFFSETTO:-0500
TZNAME:EST
DTSTART:20191103T060000
END:STANDARD
END:VTIMEZONE
BEGIN:VEVENT
DTSTART;TZID=America/New_York:20190608T110000
DTEND;TZID=America/New_York:20190608T140000
DTSTAMP:20260424T200819
CREATED:20190530T142819Z
LAST-MODIFIED:20190530T154256Z
UID:209222-1559991600-1560002400@theriverboston.com
SUMMARY:Fifth Annual Stonewall Kitchen Battle Of The Food Trucks!
DESCRIPTION:Stonewall Kitchen’s Fifth Battle Of The Food Trucks is happening Saturday\, June 8th! Join Annalisa and the River Roadies from 11 AM to 2 PM at Stonewall Kitchen in York\, Maine\, weather permitting. Twelve of Stonewall’s Favorite local food trucks will me serving mouthwatering bites\, featuring Stonewall Kitchen products! There’s no entry fee\, just bring your appetite! The River Street Team will also be giving away wonderful prizes\,  like tickets to see Maggie Rogers at Thompson’s Point! See you there!
URL:https://theriverboston.com/events/fifth-annual-stonewall-kitchen-battle-of-the-food-trucks/
LOCATION:Stonewall Kitchen York Company Store
END:VEVENT
BEGIN:VEVENT
DTSTART;TZID=America/New_York:20190608T200000
DTEND;TZID=America/New_York:20190608T230000
DTSTAMP:20260424T200819
CREATED:20190319T193649Z
LAST-MODIFIED:20190319T193649Z
UID:207529-1560024000-1560034800@theriverboston.com
SUMMARY:Collective Soul & Gin Blossoms at Casino Ballroom!
DESCRIPTION:This summer\, Collective Soul is celebrating their 25th anniversary on their “Now’s The Time Tour 2019!” This 18+ show is coming to the Casino Ballroom June 8th! The Gin Blossoms will be joining the Georgia based rock band at the historic sea-front venue! \nRiver listeners can win tickets starting March 19th-March 22nd \nPre-sale tickets will become available Wednesday\, March 20th
URL:https://theriverboston.com/events/collective-soul-gin-blossoms-at-casino-ballroom/
LOCATION:Casino Ballroom\, 169 Ocean Boulevard\, Hampton\, NH\, 03842\, United States
END:VEVENT
BEGIN:VEVENT
DTSTART;TZID=America/New_York:20190608T200000
DTEND;TZID=America/New_York:20190608T200000
DTSTAMP:20260424T200819
CREATED:20190515T172920Z
LAST-MODIFIED:20190515T172920Z
UID:209070-1560024000-1560024000@theriverboston.com
SUMMARY:Sam Robbins At The Music Hall Loft
DESCRIPTION:Singer-songwriter Sam Robbins will be performing in Portsmouth\, as part of the “Live at the Loft” series. The River is a sponsor of this great series\, with a great lineup of artists to see live. Tickets are on sale now!
URL:https://theriverboston.com/events/sam-robbins-at-the-music-hall-loft/
LOCATION:The Loft\, 9 Oaks Bluff Avenue\, Oak Bluffs\, MA\, 02557\, United States
END:VEVENT
END:VCALENDAR