BEGIN:VCALENDAR
VERSION:2.0
PRODID:-//92.5 the River - ECPv5.16.3.1//NONSGML v1.0//EN
CALSCALE:GREGORIAN
METHOD:PUBLISH
X-WR-CALNAME:92.5 the River
X-ORIGINAL-URL:https://theriverboston.com
X-WR-CALDESC:Events for 92.5 the River
BEGIN:VTIMEZONE
TZID:America/New_York
BEGIN:DAYLIGHT
TZOFFSETFROM:-0500
TZOFFSETTO:-0400
TZNAME:EDT
DTSTART:20190310T070000
END:DAYLIGHT
BEGIN:STANDARD
TZOFFSETFROM:-0400
TZOFFSETTO:-0500
TZNAME:EST
DTSTART:20191103T060000
END:STANDARD
END:VTIMEZONE
BEGIN:VEVENT
DTSTART;TZID=America/New_York:20190609T113000
DTEND;TZID=America/New_York:20190609T150000
DTSTAMP:20260424T184817
CREATED:20190604T181353Z
LAST-MODIFIED:20190604T181353Z
UID:209260-1560079800-1560092400@theriverboston.com
SUMMARY:Carry 5 Walk For Water
DESCRIPTION:It’s hard to imagine carrying every drop of water your family uses on your back. This is the reality for more than 1 billion people\, mostly women and girls\, who can’t go to school or work because carrying water takes all of their time. \nEverybody Water\, a new Boston-based cartooned-water company is on a mission to build a community of people and businesses determined to change this… and transform lives. \nJoin us at the Carry5 Walk Sunday\, June 9th at 1pm at Cohasset High School. Experience what it is like to carry water\, visit activity tents\, and enjoy music with 92.5 The River. \nAll proceeds raised will support Water1st International\, providing sustainable solutions that bring clean running water\, toilets and showers into people’s homes for the first time in their lives. Everybody Water believes “it begins with everybody” and that together we can make amazing change happen. \nRegister at Everybodywater.com
URL:https://theriverboston.com/events/carry-5-walk-for-water/
LOCATION:Cohasset High School\, 43 Pond St\, Cohasset\, MA\, 02025\, United States
END:VEVENT
BEGIN:VEVENT
DTSTART;TZID=America/New_York:20190609T173000
DTEND;TZID=America/New_York:20190609T173000
DTSTAMP:20260424T184817
CREATED:20190509T151108Z
LAST-MODIFIED:20190509T153253Z
UID:208992-1560101400-1560101400@theriverboston.com
SUMMARY:Robert Cray Band & Marc Cohn At The Casino Ballroom
DESCRIPTION:Robert Cray Band & Marc Cohn\nPerforming at the Casino Ballroom\, Grammy winners Robert Cray and Marc Cohn\, with special guests vocalists Blind Boys Of Alabama. Schemekia Copeland will also be performing. Doors for this 18+ show will open at 5:30pm and the show starts at 6:30pm.
URL:https://theriverboston.com/events/robert-cray-band-marc-cohn-at-the-casino-ballroom/
LOCATION:Hampton Beach Casino Ballroom\, 169 Ocean Blvd\, Hampton\, NH\, United States
END:VEVENT
END:VCALENDAR