BEGIN:VCALENDAR
VERSION:2.0
PRODID:-//92.5 the River - ECPv5.16.3.1//NONSGML v1.0//EN
CALSCALE:GREGORIAN
METHOD:PUBLISH
X-WR-CALNAME:92.5 the River
X-ORIGINAL-URL:https://theriverboston.com
X-WR-CALDESC:Events for 92.5 the River
BEGIN:VTIMEZONE
TZID:America/New_York
BEGIN:DAYLIGHT
TZOFFSETFROM:-0500
TZOFFSETTO:-0400
TZNAME:EDT
DTSTART:20190310T070000
END:DAYLIGHT
BEGIN:STANDARD
TZOFFSETFROM:-0400
TZOFFSETTO:-0500
TZNAME:EST
DTSTART:20191103T060000
END:STANDARD
END:VTIMEZONE
BEGIN:VEVENT
DTSTART;TZID=America/New_York:20190612T193000
DTEND;TZID=America/New_York:20190612T193000
DTSTAMP:20260424T142836
CREATED:20190329T141022Z
LAST-MODIFIED:20190329T141022Z
UID:207865-1560367800-1560367800@theriverboston.com
SUMMARY:Mary Gauthier at The Music Hall!
DESCRIPTION:Mary Gauthier is coming to Portsmouth as part of the Live at The Loft Series!\nPerforming her latest album Rifles and Rosary Beads\, she brings powerful and confessional songwriting to the Music Hall. \nTickets go on sale Saturday\, April 6th. \nProudly sponsored by:
URL:https://theriverboston.com/events/mary-gauthier-at-the-music-hall/
LOCATION:The Loft\, 9 Oaks Bluff Avenue\, Oak Bluffs\, MA\, 02557\, United States
END:VEVENT
BEGIN:VEVENT
DTSTART;TZID=America/New_York:20190612T200000
DTEND;TZID=America/New_York:20190612T200000
DTSTAMP:20260424T142836
CREATED:20190425T204459Z
LAST-MODIFIED:20190425T204459Z
UID:208859-1560369600-1560369600@theriverboston.com
SUMMARY:SYML is playing The Sinclair!
DESCRIPTION:SYML is coming to Cambridge!\nPromoting his debut album\, SYML is playing an 18+ show at the Sinclair! \nTickets are on sale now\, and you can find more information about tickets and the show here. \nYou can also enter for a chance to win a pair of tickets to the show on the River’s Tickets and Exclusive Offers page. \nProudly presented by:
URL:https://theriverboston.com/events/syml-is-playing-the-sinclair/
LOCATION:The Sinclair\, 52 Church Street\, Cambridge\, MA\, 02138\, United States
ORGANIZER;CN="92.5%20the%20River":MAILTO:promotions@wxrv.com
END:VEVENT
END:VCALENDAR